BEGIN:VCALENDAR
VERSION:2.0
PRODID:-//Solidaridad.net - ECPv6.15.17.1//NONSGML v1.0//EN
CALSCALE:GREGORIAN
METHOD:PUBLISH
X-WR-CALNAME:Solidaridad.net
X-ORIGINAL-URL:https://solidaridad.net
X-WR-CALDESC:Eventos para Solidaridad.net
REFRESH-INTERVAL;VALUE=DURATION:PT1H
X-Robots-Tag:noindex
X-PUBLISHED-TTL:PT1H
BEGIN:VTIMEZONE
TZID:Europe/Madrid
BEGIN:DAYLIGHT
TZOFFSETFROM:+0100
TZOFFSETTO:+0200
TZNAME:CEST
DTSTART:20200329T010000
END:DAYLIGHT
BEGIN:STANDARD
TZOFFSETFROM:+0200
TZOFFSETTO:+0100
TZNAME:CET
DTSTART:20201025T010000
END:STANDARD
BEGIN:DAYLIGHT
TZOFFSETFROM:+0100
TZOFFSETTO:+0200
TZNAME:CEST
DTSTART:20210328T010000
END:DAYLIGHT
BEGIN:STANDARD
TZOFFSETFROM:+0200
TZOFFSETTO:+0100
TZNAME:CET
DTSTART:20211031T010000
END:STANDARD
BEGIN:DAYLIGHT
TZOFFSETFROM:+0100
TZOFFSETTO:+0200
TZNAME:CEST
DTSTART:20220327T010000
END:DAYLIGHT
BEGIN:STANDARD
TZOFFSETFROM:+0200
TZOFFSETTO:+0100
TZNAME:CET
DTSTART:20221030T010000
END:STANDARD
END:VTIMEZONE
BEGIN:VEVENT
DTSTART;VALUE=DATE:20211115
DTEND;VALUE=DATE:20211118
DTSTAMP:20260425T183341
CREATED:20211110T214925Z
LAST-MODIFIED:20211110T220044Z
UID:56820-1636934400-1637193599@solidaridad.net
SUMMARY:Sevilla: XXXII Jornadas Universitarias con los Pobres de la Tierra
DESCRIPTION:Capitalismo en la era digital\nNuevas estructuras de dominación y expolio\nLunes 15 de noviembre: \n\nCapitalismo de Plataformas\, hacia un nuevo paradigma tecno-económico\, por Rainer Uphoff\, periodista.\nLugar: Salón de Grados de la Escuela Técnica Superior de Ingeniería. C/ Américo Vespucio (La Cartuja)\nHora: 19:00\n\nMartes 16 de noviembre: \n\nLa colaboración por la existencia\, principio para una nueva economía\, por Miguel Ángel Ruiz\, profesor de derecho.\nLugar: Salón de Grados de la Facultad de Derecho. C/ Enramadilla\, nº 18-20.\nHora: 19:00\n\nMiércoles 17 de noviembre: \n\n\n\nVigilia de oración con los Pobres de la Tierra.\nLugar: Capilla Universitaria. C/ San Fernando s/n.\n\n\n\n\nHora: 18:30 (a las 20:00 habrá Eucaristía de conclusión de las jornadas)\n\nTodos los actos serán retransmitidos por videoconferencia mediante zoom. Inscribirse a la retransmisión
URL:https://solidaridad.net/evento/sevilla-xxxii-jornadas-universitarias-con-los-pobres-de-la-tierra/
CATEGORIES:Charla-Tertulia,Eucaristía,Jornada,Vigilia
ATTACH;FMTTYPE=image/jpeg:https://solidaridad.net/wp-content/uploads/2021/11/capitalismo-en-la-era-digital.jpg
END:VEVENT
BEGIN:VEVENT
DTSTART;TZID=Europe/Madrid:20211125T193000
DTEND;TZID=Europe/Madrid:20211125T203000
DTSTAMP:20260425T183341
CREATED:20211115T102223Z
LAST-MODIFIED:20211115T121830Z
UID:56845-1637868600-1637872200@solidaridad.net
SUMMARY:Madrid: Mesa redonda sobre Iberoamérica (La pandemia perpetua de Iberoamérica)
DESCRIPTION:Iberoamérica\, la pandemia perpetua\n(Aviso: al final de este evento está el formulario para solicitar el enlace) \nMarco General \nManuel Araus (Educador) \nMapa político después de la pandemia \nAlberto Ortiz (Periodista) \nVenezuela tras la pandemia \nRosario San Martín (Economista) \nSolicita el enlace de Zoom en este formulario: \n\n	Aviso: Se requiere JavaScript para este contenido.
URL:https://solidaridad.net/evento/madrid-mesa-redonda-sobre-iberoamerica-la-pandemia-perpetua-de-iberoamerica/
CATEGORIES:Charla-Tertulia
ATTACH;FMTTYPE=image/jpeg:https://solidaridad.net/wp-content/uploads/2021/11/Iberoamerica-la-pandemia-perpetua-1-scaled.jpg
END:VEVENT
BEGIN:VEVENT
DTSTART;TZID=Europe/Madrid:20211126T190000
DTEND;TZID=Europe/Madrid:20211126T190000
DTSTAMP:20260425T183341
CREATED:20211123T205131Z
LAST-MODIFIED:20211123T205131Z
UID:56934-1637953200-1637953200@solidaridad.net
SUMMARY:Sevilla: Tertulia: "El ocaso de los derechos humanos"
DESCRIPTION:Por Miguel Ángel Ruiz\, doctor en Derecho. \nLugar: \nCasa Cultura y Solidaridad MCC Sevilla.\nCalle Nicolás Pisano\, Ciudad Jardín (Sevilla). \nZoom: \n\n	Aviso: Se requiere JavaScript para este contenido.\n\n\n    \n\n\n        \n        \n        \n 
URL:https://solidaridad.net/evento/sevilla-tertulia-el-ocaso-de-los-derechos-humanos/
CATEGORIES:Charla-Tertulia
ATTACH;FMTTYPE=image/jpeg:https://solidaridad.net/wp-content/uploads/2021/11/el-ocaso-de-los-derechos-humanos.jpg
END:VEVENT
END:VCALENDAR