BEGIN:VCALENDAR
VERSION:2.0
PRODID:-//Solidaridad.net - ECPv6.15.17.1//NONSGML v1.0//EN
CALSCALE:GREGORIAN
METHOD:PUBLISH
X-WR-CALNAME:Solidaridad.net
X-ORIGINAL-URL:https://solidaridad.net
X-WR-CALDESC:Eventos para Solidaridad.net
REFRESH-INTERVAL;VALUE=DURATION:PT1H
X-Robots-Tag:noindex
X-PUBLISHED-TTL:PT1H
BEGIN:VTIMEZONE
TZID:Europe/Madrid
BEGIN:DAYLIGHT
TZOFFSETFROM:+0100
TZOFFSETTO:+0200
TZNAME:CEST
DTSTART:20210328T010000
END:DAYLIGHT
BEGIN:STANDARD
TZOFFSETFROM:+0200
TZOFFSETTO:+0100
TZNAME:CET
DTSTART:20211031T010000
END:STANDARD
BEGIN:DAYLIGHT
TZOFFSETFROM:+0100
TZOFFSETTO:+0200
TZNAME:CEST
DTSTART:20220327T010000
END:DAYLIGHT
BEGIN:STANDARD
TZOFFSETFROM:+0200
TZOFFSETTO:+0100
TZNAME:CET
DTSTART:20221030T010000
END:STANDARD
BEGIN:DAYLIGHT
TZOFFSETFROM:+0100
TZOFFSETTO:+0200
TZNAME:CEST
DTSTART:20230326T010000
END:DAYLIGHT
BEGIN:STANDARD
TZOFFSETFROM:+0200
TZOFFSETTO:+0100
TZNAME:CET
DTSTART:20231029T010000
END:STANDARD
END:VTIMEZONE
BEGIN:VEVENT
DTSTART;TZID=Europe/Madrid:20220218T190000
DTEND;TZID=Europe/Madrid:20220218T190000
DTSTAMP:20260425T150553
CREATED:20220210T102735Z
LAST-MODIFIED:20220210T102857Z
UID:57740-1645210800-1645210800@solidaridad.net
SUMMARY:Sevilla: Logoterapia. Una terapia en busca de sentido
DESCRIPTION:Conferencia: Logoterapia. Una terapia en busca de sentido.\nPonente: Antonio Porras Torres\, psicoterapeuta.\nDía: 18 de febrero\, viernes\nHora: 19:00\nLugar: videoconferencia por zoom\n\n\n	Aviso: Se requiere JavaScript para este contenido.
URL:https://solidaridad.net/evento/sevilla-logoterapia-una-terapia-en-busca-de-sentido/
LOCATION:Casa de Cultura y Solidaridad de Sevilla\, C/Cardenal Rodrigo de Castro\, nº6\, bajo 8\, Sevilla\, Sevilla\, España
CATEGORIES:Charla-Tertulia
ATTACH;FMTTYPE=image/jpeg:https://solidaridad.net/wp-content/uploads/2022/02/Logoterapia.jpg
END:VEVENT
BEGIN:VEVENT
DTSTART;TZID=Europe/Madrid:20220228T190000
DTEND;TZID=Europe/Madrid:20220228T190000
DTSTAMP:20260425T150553
CREATED:20220222T103822Z
LAST-MODIFIED:20220222T103855Z
UID:57949-1646074800-1646074800@solidaridad.net
SUMMARY:Pamplona: Desenmascarando la Agenda 2030
DESCRIPTION:Título: Desenmascarando la Agenda 2030. Objetivos y finalidades.\nPor: Don Justo Lacunza\, Miembro de la Sociedad Misioneros de África\, Licenciado en Estudios Árabes e Islámicos\, Doctorado en Lenguas y Culturas Africanas.\nDía: Lunes 28 de febrero de 2022\nHora: 19:00\nLugar: C/ Ansoleaga 21 (1ª Planta)\, Pamplona
URL:https://solidaridad.net/evento/pamplona-desenmascarando-la-agenda-2030/
CATEGORIES:Charla-Tertulia
ATTACH;FMTTYPE=image/jpeg:https://solidaridad.net/wp-content/uploads/2022/02/Agenda-2030.jpg
END:VEVENT
END:VCALENDAR