BEGIN:VCALENDAR
VERSION:2.0
PRODID:-//Solidaridad.net - ECPv6.15.17.1//NONSGML v1.0//EN
CALSCALE:GREGORIAN
METHOD:PUBLISH
X-ORIGINAL-URL:https://solidaridad.net
X-WR-CALDESC:Eventos para Solidaridad.net
REFRESH-INTERVAL;VALUE=DURATION:PT1H
X-Robots-Tag:noindex
X-PUBLISHED-TTL:PT1H
BEGIN:VTIMEZONE
TZID:Europe/Madrid
BEGIN:DAYLIGHT
TZOFFSETFROM:+0100
TZOFFSETTO:+0200
TZNAME:CEST
DTSTART:20220327T010000
END:DAYLIGHT
BEGIN:STANDARD
TZOFFSETFROM:+0200
TZOFFSETTO:+0100
TZNAME:CET
DTSTART:20221030T010000
END:STANDARD
BEGIN:DAYLIGHT
TZOFFSETFROM:+0100
TZOFFSETTO:+0200
TZNAME:CEST
DTSTART:20230326T010000
END:DAYLIGHT
BEGIN:STANDARD
TZOFFSETFROM:+0200
TZOFFSETTO:+0100
TZNAME:CET
DTSTART:20231029T010000
END:STANDARD
BEGIN:DAYLIGHT
TZOFFSETFROM:+0100
TZOFFSETTO:+0200
TZNAME:CEST
DTSTART:20240331T010000
END:DAYLIGHT
BEGIN:STANDARD
TZOFFSETFROM:+0200
TZOFFSETTO:+0100
TZNAME:CET
DTSTART:20241027T010000
END:STANDARD
END:VTIMEZONE
BEGIN:VEVENT
DTSTART;TZID=Europe/Madrid:20230216T190000
DTEND;TZID=Europe/Madrid:20230216T190000
DTSTAMP:20260424T233649
CREATED:20230213T213430Z
LAST-MODIFIED:20230213T213430Z
UID:62780-1676574000-1676574000@solidaridad.net
SUMMARY:Córdoba: "Propuesta de Esperanza en un mundo en Guerra"
DESCRIPTION:
URL:https://solidaridad.net/evento/cordoba-propuesta-de-esperanza-en-un-mundo-en-guerra/
LOCATION:Casa de Cultura y Solidaridad de Córdoba\, C/ Maestro Priego López\, 20 Local Izquierda\, Córdoba\, Córdoba
CATEGORIES:Charla-Tertulia
ATTACH;FMTTYPE=image/jpeg:https://solidaridad.net/wp-content/uploads/2023/02/Charla.-Propuesta-de-esperanza.jpg
END:VEVENT
END:VCALENDAR