BEGIN:VCALENDAR
VERSION:2.0
PRODID:-//Solidaridad.net - ECPv6.15.17.1//NONSGML v1.0//EN
CALSCALE:GREGORIAN
METHOD:PUBLISH
X-WR-CALNAME:Solidaridad.net
X-ORIGINAL-URL:https://solidaridad.net
X-WR-CALDESC:Eventos para Solidaridad.net
REFRESH-INTERVAL;VALUE=DURATION:PT1H
X-Robots-Tag:noindex
X-PUBLISHED-TTL:PT1H
BEGIN:VTIMEZONE
TZID:Europe/Madrid
BEGIN:DAYLIGHT
TZOFFSETFROM:+0100
TZOFFSETTO:+0200
TZNAME:CEST
DTSTART:20220327T010000
END:DAYLIGHT
BEGIN:STANDARD
TZOFFSETFROM:+0200
TZOFFSETTO:+0100
TZNAME:CET
DTSTART:20221030T010000
END:STANDARD
BEGIN:DAYLIGHT
TZOFFSETFROM:+0100
TZOFFSETTO:+0200
TZNAME:CEST
DTSTART:20230326T010000
END:DAYLIGHT
BEGIN:STANDARD
TZOFFSETFROM:+0200
TZOFFSETTO:+0100
TZNAME:CET
DTSTART:20231029T010000
END:STANDARD
BEGIN:DAYLIGHT
TZOFFSETFROM:+0100
TZOFFSETTO:+0200
TZNAME:CEST
DTSTART:20240331T010000
END:DAYLIGHT
BEGIN:STANDARD
TZOFFSETFROM:+0200
TZOFFSETTO:+0100
TZNAME:CET
DTSTART:20241027T010000
END:STANDARD
END:VTIMEZONE
BEGIN:VEVENT
DTSTART;TZID=Europe/Madrid:20231202T190000
DTEND;TZID=Europe/Madrid:20231202T200000
DTSTAMP:20260424T110053
CREATED:20231127T094227Z
LAST-MODIFIED:20231127T094228Z
UID:64462-1701543600-1701547200@solidaridad.net
SUMMARY:Santander: Presentación del proyecto misionero del MCC en Perú
DESCRIPTION:
URL:https://solidaridad.net/evento/santander-presentacion-del-proyecto-misionero-del-mcc-en-peru/
CATEGORIES:Charla-Tertulia
ATTACH;FMTTYPE=image/jpeg:https://solidaridad.net/wp-content/uploads/2023/11/Acto-CCyS-Santander-Diciembre-2023-scaled.jpg
END:VEVENT
BEGIN:VEVENT
DTSTART;TZID=Europe/Madrid:20231213T193000
DTEND;TZID=Europe/Madrid:20231213T203000
DTSTAMP:20260424T110053
CREATED:20231206T204641Z
LAST-MODIFIED:20231206T204641Z
UID:64540-1702495800-1702499400@solidaridad.net
SUMMARY:Granada: Reinauguración de la Casa de Cultura y Solidaridad
DESCRIPTION:Reinauguración de la Casa de Cultura y Solidaridad en Avda. Pulianas 15\, a las 19:30
URL:https://solidaridad.net/evento/granada-reinauguracion-de-la-casa-de-cultura-y-solidaridad/
CATEGORIES:Charla-Tertulia
ATTACH;FMTTYPE=image/jpeg:https://solidaridad.net/wp-content/uploads/2023/12/AAC3732D-0FE1-41FF-93F0-CDD3C71B0DD9.jpeg
END:VEVENT
END:VCALENDAR