BEGIN:VCALENDAR
VERSION:2.0
PRODID:-//Solidaridad.net - ECPv6.15.17.1//NONSGML v1.0//EN
CALSCALE:GREGORIAN
METHOD:PUBLISH
X-ORIGINAL-URL:https://solidaridad.net
X-WR-CALDESC:Eventos para Solidaridad.net
REFRESH-INTERVAL;VALUE=DURATION:PT1H
X-Robots-Tag:noindex
X-PUBLISHED-TTL:PT1H
BEGIN:VTIMEZONE
TZID:Europe/Madrid
BEGIN:DAYLIGHT
TZOFFSETFROM:+0100
TZOFFSETTO:+0200
TZNAME:CEST
DTSTART:20230326T010000
END:DAYLIGHT
BEGIN:STANDARD
TZOFFSETFROM:+0200
TZOFFSETTO:+0100
TZNAME:CET
DTSTART:20231029T010000
END:STANDARD
BEGIN:DAYLIGHT
TZOFFSETFROM:+0100
TZOFFSETTO:+0200
TZNAME:CEST
DTSTART:20240331T010000
END:DAYLIGHT
BEGIN:STANDARD
TZOFFSETFROM:+0200
TZOFFSETTO:+0100
TZNAME:CET
DTSTART:20241027T010000
END:STANDARD
BEGIN:DAYLIGHT
TZOFFSETFROM:+0100
TZOFFSETTO:+0200
TZNAME:CEST
DTSTART:20250330T010000
END:DAYLIGHT
BEGIN:STANDARD
TZOFFSETFROM:+0200
TZOFFSETTO:+0100
TZNAME:CET
DTSTART:20251026T010000
END:STANDARD
END:VTIMEZONE
BEGIN:VEVENT
DTSTART;TZID=Europe/Madrid:20240306T193000
DTEND;TZID=Europe/Madrid:20240306T210000
DTSTAMP:20260424T070636
CREATED:20240227T114511Z
LAST-MODIFIED:20240302T071010Z
UID:64977-1709753400-1709758800@solidaridad.net
SUMMARY:Madrid: "El pensamiento político de Chesterton"
DESCRIPTION:Reflexión sobre el pensamiento político de G. K. Chesterton\, escritor\, filósofo y periodista británico. Por D. Juan Carlos Utrera-Profesor de Filosofía del Derecho en la Uned. Asistencia presencial o virtual (zoom) \nSolicita aquí tu enlace de zoom \n\n	Aviso: Se requiere JavaScript para este contenido.
URL:https://solidaridad.net/evento/madrid-el-pensamiento-politico-de-chesterton/
LOCATION:Casa de Cultura y Solidaridad DERSA\, Avenida Monforte de Lemos 162\, Madrid\, Madrid\, 28029
CATEGORIES:Charla-Tertulia,Exposición
ATTACH;FMTTYPE=image/jpeg:https://solidaridad.net/wp-content/uploads/2024/02/2024-03-Chesterton-Utrera.jpg
END:VEVENT
BEGIN:VEVENT
DTSTART;TZID=Europe/Madrid:20240308T190000
DTEND;TZID=Europe/Madrid:20240308T200000
DTSTAMP:20260424T070636
CREATED:20240228T210621Z
LAST-MODIFIED:20240228T210621Z
UID:64992-1709924400-1709928000@solidaridad.net
SUMMARY:Sevilla: La traición del PSOE
DESCRIPTION:Conferencia en la Casa de Cultura y Solidaridad en C/Nicolás Pisano\, el viernes\, 8 de Marzo a las 19 h.
URL:https://solidaridad.net/evento/sevilla-la-traicion-del-psoe/
CATEGORIES:Charla-Tertulia
ATTACH;FMTTYPE=image/jpeg:https://solidaridad.net/wp-content/uploads/2024/02/3AAC230C-E085-4A87-966F-3DF37EE4596F.jpeg
END:VEVENT
BEGIN:VEVENT
DTSTART;TZID=Europe/Madrid:20240315T190000
DTEND;TZID=Europe/Madrid:20240315T200000
DTSTAMP:20260424T070636
CREATED:20240312T214744Z
LAST-MODIFIED:20240312T214744Z
UID:65101-1710529200-1710532800@solidaridad.net
SUMMARY:Villafranca de los Barros. Presentación Proyecto Misionero
DESCRIPTION:Presentación y diálogo sobre el Proyecto Solidario de promoción humano en Perú el Viernes 15 a las 19 h\, en la Casa de la Iglesia\, Plaza del Altozano.
URL:https://solidaridad.net/evento/villafranca-de-los-barros-presentacion-proyecto-misionero/
CATEGORIES:Charla-Tertulia
ATTACH;FMTTYPE=image/jpeg:https://solidaridad.net/wp-content/uploads/2024/03/IMG-20240312-WA0004.jpg
END:VEVENT
BEGIN:VEVENT
DTSTART;TZID=Europe/Madrid:20240318T193000
DTEND;TZID=Europe/Madrid:20240318T203000
DTSTAMP:20260424T070636
CREATED:20240308T105049Z
LAST-MODIFIED:20240308T105049Z
UID:65066-1710790200-1710793800@solidaridad.net
SUMMARY:Pamplona: La medicalización de la vida: ¿salud o negocio?
DESCRIPTION:Diálogo sobre “La Medicalización de la vida: ¿salud o negocio?”. El lunes 18 de marzo en los locales pastorales de la Parroquia San Alberto Magno.
URL:https://solidaridad.net/evento/pamplona-la-medicalizacion-de-la-vida-salud-o-negocio/
CATEGORIES:Charla-Tertulia
ATTACH;FMTTYPE=image/jpeg:https://solidaridad.net/wp-content/uploads/2024/03/MedicalizaciA³n-de-la-Vida-18-marzo-2024.jpg
END:VEVENT
END:VCALENDAR