BEGIN:VCALENDAR
VERSION:2.0
PRODID:-//Solidaridad.net - ECPv6.15.17.1//NONSGML v1.0//EN
CALSCALE:GREGORIAN
METHOD:PUBLISH
X-ORIGINAL-URL:https://solidaridad.net
X-WR-CALDESC:Eventos para Solidaridad.net
REFRESH-INTERVAL;VALUE=DURATION:PT1H
X-Robots-Tag:noindex
X-PUBLISHED-TTL:PT1H
BEGIN:VTIMEZONE
TZID:Europe/Madrid
BEGIN:DAYLIGHT
TZOFFSETFROM:+0100
TZOFFSETTO:+0200
TZNAME:CEST
DTSTART:20230326T010000
END:DAYLIGHT
BEGIN:STANDARD
TZOFFSETFROM:+0200
TZOFFSETTO:+0100
TZNAME:CET
DTSTART:20231029T010000
END:STANDARD
BEGIN:DAYLIGHT
TZOFFSETFROM:+0100
TZOFFSETTO:+0200
TZNAME:CEST
DTSTART:20240331T010000
END:DAYLIGHT
BEGIN:STANDARD
TZOFFSETFROM:+0200
TZOFFSETTO:+0100
TZNAME:CET
DTSTART:20241027T010000
END:STANDARD
BEGIN:DAYLIGHT
TZOFFSETFROM:+0100
TZOFFSETTO:+0200
TZNAME:CEST
DTSTART:20250330T010000
END:DAYLIGHT
BEGIN:STANDARD
TZOFFSETFROM:+0200
TZOFFSETTO:+0100
TZNAME:CET
DTSTART:20251026T010000
END:STANDARD
END:VTIMEZONE
BEGIN:VEVENT
DTSTART;TZID=Europe/Madrid:20240515T163000
DTEND;TZID=Europe/Madrid:20240515T173000
DTSTAMP:20260424T043742
CREATED:20240513T063700Z
LAST-MODIFIED:20240513T063700Z
UID:65468-1715790600-1715794200@solidaridad.net
SUMMARY:Ciudad Guayana: ¿Qué está pasando con la sanidad en Venezuela?
DESCRIPTION:Charla sobre «¿Qué está pasando con la sanidad en Venezuela? que tendrá lugar el miércoles 15 de mayo a las 16:30 h en la Casa de Cultura y Solidaridad Julián Gómez del Castillo (Vista al Sol).
URL:https://solidaridad.net/evento/ciudad-guayana-que-esta-pasando-con-la-sanidad-en-venezuela/
CATEGORIES:Charla-Tertulia
ATTACH;FMTTYPE=image/jpeg:https://solidaridad.net/wp-content/uploads/2024/05/IMG-20240512-WA0011.jpg
END:VEVENT
BEGIN:VEVENT
DTSTART;TZID=Europe/Madrid:20240516T193000
DTEND;TZID=Europe/Madrid:20240516T203000
DTSTAMP:20260424T043742
CREATED:20240508T071603Z
LAST-MODIFIED:20240508T072716Z
UID:65414-1715887800-1715891400@solidaridad.net
SUMMARY:Madrid: Presentación del libro ¿Ha fracasado la Nueva Evangelización?
DESCRIPTION:Si quieres el enlace rellena el formulario\, gracias \n\n	Aviso: Se requiere JavaScript para este contenido.
URL:https://solidaridad.net/evento/madrid-presentacion-del-libro-ha-fracasado-la-nueva-evangelizacion/
CATEGORIES:Charla-Tertulia
ATTACH;FMTTYPE=image/jpeg:https://solidaridad.net/wp-content/uploads/2024/05/2024-05-¿Ha-fracasado-la-nueva-evangelizacion-1.jpg
END:VEVENT
BEGIN:VEVENT
DTSTART;TZID=Europe/Madrid:20240524T193000
DTEND;TZID=Europe/Madrid:20240524T203000
DTSTAMP:20260424T043742
CREATED:20240513T061525Z
LAST-MODIFIED:20240513T061525Z
UID:65464-1716579000-1716582600@solidaridad.net
SUMMARY:Sevilla: Nuevas Propuestas educativas
DESCRIPTION:Centro cultural “Nuevas Propuestas educativas: en detrimento de los pobres y la responsabilidad” que tendrá lugar el Viernes\, 24 de Mayo a las 19:30h en la Casa de Cultura y Solidaridad.
URL:https://solidaridad.net/evento/sevilla-nuevas-propuestas-educativas/
CATEGORIES:Charla-Tertulia
ATTACH;FMTTYPE=image/jpeg:https://solidaridad.net/wp-content/uploads/2024/05/E7743710-8090-4B8B-8190-8A5A031F076E.jpeg
END:VEVENT
END:VCALENDAR