BEGIN:VCALENDAR
VERSION:2.0
PRODID:-//Solidaridad.net - ECPv6.15.17.1//NONSGML v1.0//EN
CALSCALE:GREGORIAN
METHOD:PUBLISH
X-ORIGINAL-URL:https://solidaridad.net
X-WR-CALDESC:Eventos para Solidaridad.net
REFRESH-INTERVAL;VALUE=DURATION:PT1H
X-Robots-Tag:noindex
X-PUBLISHED-TTL:PT1H
BEGIN:VTIMEZONE
TZID:Europe/Madrid
BEGIN:DAYLIGHT
TZOFFSETFROM:+0100
TZOFFSETTO:+0200
TZNAME:CEST
DTSTART:20230326T010000
END:DAYLIGHT
BEGIN:STANDARD
TZOFFSETFROM:+0200
TZOFFSETTO:+0100
TZNAME:CET
DTSTART:20231029T010000
END:STANDARD
BEGIN:DAYLIGHT
TZOFFSETFROM:+0100
TZOFFSETTO:+0200
TZNAME:CEST
DTSTART:20240331T010000
END:DAYLIGHT
BEGIN:STANDARD
TZOFFSETFROM:+0200
TZOFFSETTO:+0100
TZNAME:CET
DTSTART:20241027T010000
END:STANDARD
BEGIN:DAYLIGHT
TZOFFSETFROM:+0100
TZOFFSETTO:+0200
TZNAME:CEST
DTSTART:20250330T010000
END:DAYLIGHT
BEGIN:STANDARD
TZOFFSETFROM:+0200
TZOFFSETTO:+0100
TZNAME:CET
DTSTART:20251026T010000
END:STANDARD
END:VTIMEZONE
BEGIN:VEVENT
DTSTART;TZID=Europe/Madrid:20241115T190000
DTEND;TZID=Europe/Madrid:20241115T200000
DTSTAMP:20260423T214932
CREATED:20241030T083159Z
LAST-MODIFIED:20241030T083159Z
UID:66139-1731697200-1731700800@solidaridad.net
SUMMARY:Sevilla: Dios en las periferias. Vivencias de la frontera Venezuela-Brasil
DESCRIPTION:Centro cultural “Dios en las periferias: Vivencias en la frontera Venezuela-Brasil” por Carlos Carrasco Schlatter. Tendrá lugar el Viernes 15 de noviembre a las 19h en la Casa de Cultura y Solidaridad del MCC\, Calle Nicolás Pisano\, Sevilla.
URL:https://solidaridad.net/evento/sevilla-dios-en-las-periferias-vivencias-de-la-frontera-venezuela-brasil/
CATEGORIES:Charla-Tertulia
ATTACH;FMTTYPE=image/jpeg:https://solidaridad.net/wp-content/uploads/2024/10/82119439-08D0-4C4E-B176-768B87FE159A.jpeg
END:VEVENT
BEGIN:VEVENT
DTSTART;TZID=Europe/Madrid:20241116T180000
DTEND;TZID=Europe/Madrid:20241116T203000
DTSTAMP:20260423T214932
CREATED:20241026T095159Z
LAST-MODIFIED:20241026T095159Z
UID:66130-1731780000-1731789000@solidaridad.net
SUMMARY:Lima (Perú): Inauguración Casa de Cultura y Solidaridad
DESCRIPTION:Inauguración de la Casa de Cultura y Solidaridad del Movimiento Cultural Cristiano. Comenzará con una eucaristía a las 6:00pm en la Paroquia Cristo Resucitado. Seguido de la Bendición de la casa\, por el padre Amadeo Raymi\, vicario de la diócesis de Lurin. Y por ultimo\, charla sobre ¿Qué es una Casa de Cultura y Solidaridad? \nTendrá lugar el 16 de noviembre en Villa El Salvador\, Sector 2\, grupo 13\, Manzana D\, Lote 5. Frente a la Parroquia Cristo Resucitado\, Lima.
URL:https://solidaridad.net/evento/lima-peru-inauguracion-casa-de-cultura-y-solidaridad/
CATEGORIES:Charla-Tertulia,Eucaristía
ATTACH;FMTTYPE=image/jpeg:https://solidaridad.net/wp-content/uploads/2024/10/D38E6824-FF24-4AA6-9489-0F79C18087C7.jpeg
END:VEVENT
BEGIN:VEVENT
DTSTART;TZID=Europe/Madrid:20241121T190000
DTEND;TZID=Europe/Madrid:20241121T210000
DTSTAMP:20260423T214932
CREATED:20241107T201829Z
LAST-MODIFIED:20241107T201829Z
UID:66159-1732215600-1732222800@solidaridad.net
SUMMARY:MADRID: POR UNA COMUNIDAD HISPANOAMERICANA DE PROMOCIÓN HUMANA
DESCRIPTION:Escuela de Formación Política organizada por el Foro Julián Gómez del Castillo \nInscripciones on line aquí \nhttps://foro.juliangomezdelcastillo.es/event/por-una-comunidad-hispanoamericana-de-promocion-humana/
URL:https://solidaridad.net/evento/madrid-por-una-comunidad-hispanoamericana-de-promocion-humana/
CATEGORIES:Charla-Tertulia
ATTACH;FMTTYPE=image/jpeg:https://solidaridad.net/wp-content/uploads/2024/11/COMUNIDAD-HISPANOAMERICANA.jpeg
END:VEVENT
BEGIN:VEVENT
DTSTART;TZID=Europe/Madrid:20241125T193000
DTEND;TZID=Europe/Madrid:20241125T203000
DTSTAMP:20260423T214932
CREATED:20241112T110936Z
LAST-MODIFIED:20241112T110936Z
UID:66177-1732563000-1732566600@solidaridad.net
SUMMARY:Pamplona: Trata de personas\, crimen contra la humanidad
DESCRIPTION:Charla «Trata de personas\, crimen contra la humanidad» por Katya Palafox\, Delegada de Trata en la Diócesis de Pamplona. Que tendrá lugar el lunes\, 25 de noviembre a las 19.30 h en los Locales Pastorales de la Parroquia San Alberto Magno\, Trav. Monasterio de Belate\, 2\, Pamplona.
URL:https://solidaridad.net/evento/pamplona-trata-de-personas-crimen-contra-la-humanidad/
CATEGORIES:Charla-Tertulia
ATTACH;FMTTYPE=image/jpeg:https://solidaridad.net/wp-content/uploads/2024/11/WhatsApp-Image-2024-11-12-at-11.49.59.jpeg
END:VEVENT
BEGIN:VEVENT
DTSTART;TZID=Europe/Madrid:20241126T190000
DTEND;TZID=Europe/Madrid:20241126T203000
DTSTAMP:20260423T214932
CREATED:20241125T165034Z
LAST-MODIFIED:20241125T165048Z
UID:66225-1732647600-1732653000@solidaridad.net
SUMMARY:Córdoba: "El negocio de la alimentación"
DESCRIPTION:
URL:https://solidaridad.net/evento/cordoba-el-negocio-de-la-alimentacion/
CATEGORIES:Charla-Tertulia
ATTACH;FMTTYPE=image/jpeg:https://solidaridad.net/wp-content/uploads/2024/11/negocio-alimentacion.jpg
END:VEVENT
BEGIN:VEVENT
DTSTART;TZID=Europe/Madrid:20241126T193000
DTEND;TZID=Europe/Madrid:20241126T203000
DTSTAMP:20260423T214932
CREATED:20241119T103657Z
LAST-MODIFIED:20241119T103657Z
UID:66192-1732649400-1732653000@solidaridad.net
SUMMARY:Granada: ¿Sociedad libre\, idiota o totalitaria?
DESCRIPTION:Ponencia sobre «¿Sociedad libre\, idiota o totalitaria? La lucha de Sophie Scholl y la Rosa Blanca contra el totalitarismo.» Presentación del libro !Jaque a Hitler! por Rainer Uphoff. \nTendrá lugar el martes\, 26 de noviembre a las 19.30 h en la Casa de Cultura y Solidaridad del MCC\, Avenida Pulianas\, 15\, Granada.
URL:https://solidaridad.net/evento/granada-sociedad-libre-idiota-o-totalitaria/
CATEGORIES:Charla-Tertulia
ATTACH;FMTTYPE=image/jpeg:https://solidaridad.net/wp-content/uploads/2024/11/WhatsApp-Image-2024-11-19-at-11.28.15.jpeg
END:VEVENT
END:VCALENDAR