BEGIN:VCALENDAR
VERSION:2.0
PRODID:-//Solidaridad.net - ECPv6.15.17.1//NONSGML v1.0//EN
CALSCALE:GREGORIAN
METHOD:PUBLISH
X-WR-CALNAME:Solidaridad.net
X-ORIGINAL-URL:https://solidaridad.net
X-WR-CALDESC:Eventos para Solidaridad.net
REFRESH-INTERVAL;VALUE=DURATION:PT1H
X-Robots-Tag:noindex
X-PUBLISHED-TTL:PT1H
BEGIN:VTIMEZONE
TZID:Europe/Madrid
BEGIN:DAYLIGHT
TZOFFSETFROM:+0100
TZOFFSETTO:+0200
TZNAME:CEST
DTSTART:20240331T010000
END:DAYLIGHT
BEGIN:STANDARD
TZOFFSETFROM:+0200
TZOFFSETTO:+0100
TZNAME:CET
DTSTART:20241027T010000
END:STANDARD
BEGIN:DAYLIGHT
TZOFFSETFROM:+0100
TZOFFSETTO:+0200
TZNAME:CEST
DTSTART:20250330T010000
END:DAYLIGHT
BEGIN:STANDARD
TZOFFSETFROM:+0200
TZOFFSETTO:+0100
TZNAME:CET
DTSTART:20251026T010000
END:STANDARD
BEGIN:DAYLIGHT
TZOFFSETFROM:+0100
TZOFFSETTO:+0200
TZNAME:CEST
DTSTART:20260329T010000
END:DAYLIGHT
BEGIN:STANDARD
TZOFFSETFROM:+0200
TZOFFSETTO:+0100
TZNAME:CET
DTSTART:20261025T010000
END:STANDARD
END:VTIMEZONE
BEGIN:VEVENT
DTSTART;TZID=Europe/Madrid:20250115T170000
DTEND;TZID=Europe/Madrid:20250115T183000
DTSTAMP:20260423T193649
CREATED:20250114T163811Z
LAST-MODIFIED:20250114T170916Z
UID:66479-1736960400-1736965800@solidaridad.net
SUMMARY:Vista el Sol: Centro cultural "Una mirada a Perú"
DESCRIPTION:Centro cultural «Una mirada a Perú» por Jesús Sandoval. Miercoles 15 de enero\, iniciando con una eucaristía a las 5 p.m. En la Casa de Cultura y Solidaridad Julián Gómez del Castillo\, Vista al Sol\, Lima.
URL:https://solidaridad.net/evento/lima-centro-cultural-una-mirada-a-peru/
CATEGORIES:Charla-Tertulia
ATTACH;FMTTYPE=image/jpeg:https://solidaridad.net/wp-content/uploads/2025/01/WhatsApp-Image-2025-01-14-at-08.46.54.jpeg
END:VEVENT
BEGIN:VEVENT
DTSTART;TZID=Europe/Madrid:20250123T190000
DTEND;TZID=Europe/Madrid:20250123T210000
DTSTAMP:20260423T193649
CREATED:20250107T113849Z
LAST-MODIFIED:20250107T120037Z
UID:66453-1737658800-1737666000@solidaridad.net
SUMMARY:Madrid: "Geopolítica financiera en el siglo XXI" Foro JGC
DESCRIPTION:Organizado por el Foro Julián Gómez del Castillo y en el marco de la Escuela de Formación Política que abarca todo el curso. \nPara inscribirte a la sesión online accede al siguiente post ↓ \nGeopolítica financiera en el siglo XXI
URL:https://solidaridad.net/evento/madrid-geopolitica-financiera-en-el-siglo-xxi-foro-jgc/
CATEGORIES:Charla-Tertulia
ATTACH;FMTTYPE=image/jpeg:https://solidaridad.net/wp-content/uploads/2025/01/b3943c3f-29c8-4482-a25f-9510f3ee0d2f.jpg
END:VEVENT
BEGIN:VEVENT
DTSTART;TZID=Europe/Madrid:20250127T193000
DTEND;TZID=Europe/Madrid:20250127T203000
DTSTAMP:20260423T193649
CREATED:20250115T120219Z
LAST-MODIFIED:20250115T120219Z
UID:66489-1738006200-1738009800@solidaridad.net
SUMMARY:Pamplona: "Entre la rabia y la ternura"
DESCRIPTION:Charla-tertulia «Entre la rabia y la ternura». Acompañando a las victimas de la guerra en Siria. Visión socio-política. Impartida por el Padre D. Livio Ledezma. \nTendrá lugar el lunes 27 de enero a las 19.30 h en los Locales Pastorales de la Parroquia San Alberto Magno. Travesía Monasterio de Belate\, 2. Pamplona.
URL:https://solidaridad.net/evento/pamplona-entre-la-rabia-y-la-ternura/
CATEGORIES:Charla-Tertulia
ATTACH;FMTTYPE=image/jpeg:https://solidaridad.net/wp-content/uploads/2025/01/WhatsApp-Image-2025-01-15-at-12.39.08.jpeg
END:VEVENT
BEGIN:VEVENT
DTSTART;TZID=Europe/Madrid:20250131T200000
DTEND;TZID=Europe/Madrid:20250131T213000
DTSTAMP:20260423T193649
CREATED:20250127T220954Z
LAST-MODIFIED:20250127T220954Z
UID:66536-1738353600-1738359000@solidaridad.net
SUMMARY:Úbeda: "Presentación del proyecto misionero del MCC en Perú"
DESCRIPTION:
URL:https://solidaridad.net/evento/ubeda-presentacion-del-proyecto-misionero-del-mcc-en-peru/
CATEGORIES:Charla-Tertulia
ATTACH;FMTTYPE=image/jpeg:https://solidaridad.net/wp-content/uploads/2025/01/9373ba7c-beca-4df7-b6e5-70b8dd7c2cff.jpg
END:VEVENT
END:VCALENDAR