BEGIN:VCALENDAR
VERSION:2.0
PRODID:-//Solidaridad.net - ECPv6.15.17.1//NONSGML v1.0//EN
CALSCALE:GREGORIAN
METHOD:PUBLISH
X-ORIGINAL-URL:https://solidaridad.net
X-WR-CALDESC:Eventos para Solidaridad.net
REFRESH-INTERVAL;VALUE=DURATION:PT1H
X-Robots-Tag:noindex
X-PUBLISHED-TTL:PT1H
BEGIN:VTIMEZONE
TZID:Europe/Madrid
BEGIN:DAYLIGHT
TZOFFSETFROM:+0100
TZOFFSETTO:+0200
TZNAME:CEST
DTSTART:20240331T010000
END:DAYLIGHT
BEGIN:STANDARD
TZOFFSETFROM:+0200
TZOFFSETTO:+0100
TZNAME:CET
DTSTART:20241027T010000
END:STANDARD
BEGIN:DAYLIGHT
TZOFFSETFROM:+0100
TZOFFSETTO:+0200
TZNAME:CEST
DTSTART:20250330T010000
END:DAYLIGHT
BEGIN:STANDARD
TZOFFSETFROM:+0200
TZOFFSETTO:+0100
TZNAME:CET
DTSTART:20251026T010000
END:STANDARD
BEGIN:DAYLIGHT
TZOFFSETFROM:+0100
TZOFFSETTO:+0200
TZNAME:CEST
DTSTART:20260329T010000
END:DAYLIGHT
BEGIN:STANDARD
TZOFFSETFROM:+0200
TZOFFSETTO:+0100
TZNAME:CET
DTSTART:20261025T010000
END:STANDARD
END:VTIMEZONE
BEGIN:VEVENT
DTSTART;TZID=Europe/Madrid:20250301T193000
DTEND;TZID=Europe/Madrid:20250301T203000
DTSTAMP:20260423T172338
CREATED:20250227T204239Z
LAST-MODIFIED:20250227T204239Z
UID:66721-1740857400-1740861000@solidaridad.net
SUMMARY:Perú: Homenaje a Guillermo Rovirosa y Julián Gómez del Castillo
DESCRIPTION:TESTIGOS DE ESPERANZA para el siglo XXI. Homenaje a Guillermo Rovirosa y Julián Gómez del Castillo. Conferencia el sábado\, 1 de marzo a las 19.30h en la Casa de Cultura y Solidaridad\, Sector II\, Grupo 13\, Mz D\, lote 5\, Villa El Salvador (frente a la Parroquia Cristo Resucitado.
URL:https://solidaridad.net/evento/peru-homenaje-a-guillermo-rovirosa-y-julian-gomez-del-castillo/
CATEGORIES:Charla-Tertulia
ATTACH;FMTTYPE=image/jpeg:https://solidaridad.net/wp-content/uploads/2025/02/WhatsApp-Image-2025-02-26-at-14.58.36.jpeg
END:VEVENT
BEGIN:VEVENT
DTSTART;TZID=Europe/Madrid:20250314T193000
DTEND;TZID=Europe/Madrid:20250314T210000
DTSTAMP:20260423T172338
CREATED:20250306T070730Z
LAST-MODIFIED:20250306T070730Z
UID:66769-1741980600-1741986000@solidaridad.net
SUMMARY:Sevilla: Cuidados paliativos: esperanza al final de la vida
DESCRIPTION:Centro cultural sobre «Cuidados paliativos: Esperanza al final de la vida» por Fernando Gamboa. Tendrá lugar el viernes 14 de marzo a las 19.30h en la Casa de Cultura y Solidaridad del MCC (Calle Nicolás Pisano)\, Sevilla.
URL:https://solidaridad.net/evento/sevilla-cuidados-paliativos-esperanza-al-final-de-la-vida/
CATEGORIES:Charla-Tertulia
ATTACH;FMTTYPE=image/jpeg:https://solidaridad.net/wp-content/uploads/2025/03/WhatsApp-Image-2025-03-04-at-13.20.01.jpeg
END:VEVENT
BEGIN:VEVENT
DTSTART;TZID=Europe/Madrid:20250320T190000
DTEND;TZID=Europe/Madrid:20250320T210000
DTSTAMP:20260423T172338
CREATED:20250310T160927Z
LAST-MODIFIED:20250310T212933Z
UID:66795-1742497200-1742504400@solidaridad.net
SUMMARY:Madrid- Foro JGC- Descubriendo la verdad frente a la "leyenda negra"
DESCRIPTION:La esclavitud en la América hispánica.\npor Consuelo Martínez-Sicluna\,\nprofesora de Filosofía del Derecho.\nUniversidad Complutense de Madrid\nPresencial y on line. \nInscripción al zoom en este enlace de la web del Foro Julián Gómez del Castillo. \nDescubriendo la verdad frente a la «leyenda negra»
URL:https://solidaridad.net/evento/madrid-foro-jgc-descubriendo-la-verdad-frente-a-la-leyenda-negra/
CATEGORIES:Charla-Tertulia
ATTACH;FMTTYPE=image/jpeg:https://solidaridad.net/wp-content/uploads/2025/03/foro-leyenda-negra.jpeg
END:VEVENT
BEGIN:VEVENT
DTSTART;TZID=Europe/Madrid:20250324T193000
DTEND;TZID=Europe/Madrid:20250324T210000
DTSTAMP:20260423T172338
CREATED:20250312T070643Z
LAST-MODIFIED:20250312T070643Z
UID:66814-1742844600-1742850000@solidaridad.net
SUMMARY:Pamplona: Esclavitud infantil
DESCRIPTION:Charla sobre “Esclavitud infantil\, comercio de órganos\, trata…¡No seamos cómplices! Por Marina Ponce. Tendrá lugar el lunes\, 24 de marzo a las 19.30h en los Locales parroquiales de la Parroquia San Alberto Magno\, Travesía Monasterio de Belate\, 2. Pamplona.
URL:https://solidaridad.net/evento/pamplona-esclavitud-infantil/
CATEGORIES:Charla-Tertulia
ATTACH;FMTTYPE=image/jpeg:https://solidaridad.net/wp-content/uploads/2025/03/0C8889DC-C450-4C19-B4B8-42B6C1963532-scaled.jpeg
END:VEVENT
END:VCALENDAR