BEGIN:VCALENDAR
VERSION:2.0
PRODID:-//Solidaridad.net - ECPv6.15.17.1//NONSGML v1.0//EN
CALSCALE:GREGORIAN
METHOD:PUBLISH
X-WR-CALNAME:Solidaridad.net
X-ORIGINAL-URL:https://solidaridad.net
X-WR-CALDESC:Eventos para Solidaridad.net
REFRESH-INTERVAL;VALUE=DURATION:PT1H
X-Robots-Tag:noindex
X-PUBLISHED-TTL:PT1H
BEGIN:VTIMEZONE
TZID:Europe/Madrid
BEGIN:DAYLIGHT
TZOFFSETFROM:+0100
TZOFFSETTO:+0200
TZNAME:CEST
DTSTART:20240331T010000
END:DAYLIGHT
BEGIN:STANDARD
TZOFFSETFROM:+0200
TZOFFSETTO:+0100
TZNAME:CET
DTSTART:20241027T010000
END:STANDARD
BEGIN:DAYLIGHT
TZOFFSETFROM:+0100
TZOFFSETTO:+0200
TZNAME:CEST
DTSTART:20250330T010000
END:DAYLIGHT
BEGIN:STANDARD
TZOFFSETFROM:+0200
TZOFFSETTO:+0100
TZNAME:CET
DTSTART:20251026T010000
END:STANDARD
BEGIN:DAYLIGHT
TZOFFSETFROM:+0100
TZOFFSETTO:+0200
TZNAME:CEST
DTSTART:20260329T010000
END:DAYLIGHT
BEGIN:STANDARD
TZOFFSETFROM:+0200
TZOFFSETTO:+0100
TZNAME:CET
DTSTART:20261025T010000
END:STANDARD
END:VTIMEZONE
BEGIN:VEVENT
DTSTART;TZID=Europe/Madrid:20250604T190000
DTEND;TZID=Europe/Madrid:20250604T203000
DTSTAMP:20260423T134954
CREATED:20250528T201342Z
LAST-MODIFIED:20250528T201342Z
UID:67338-1749063600-1749069000@solidaridad.net
SUMMARY:Córdoba: Doctrina Social de la Iglesia y la misión del laico
DESCRIPTION:Doctrina Social de la Iglesia y la misión del laico por Carlos Ruiz\, sacerdote misionero en Venezuela. Tendrá lugar el Miércoles\, 4 de junio a las 19h en la Casa de Cultura y Solidaridad en C/ Maestro Priego López 20\, local Izquierda. Córdoba
URL:https://solidaridad.net/evento/cordoba-doctrina-social-de-la-iglesia-y-la-mision-del-laico/
CATEGORIES:Charla-Tertulia
ATTACH;FMTTYPE=image/jpeg:https://solidaridad.net/wp-content/uploads/2025/05/WhatsApp-Image-2025-05-27-at-17.23.16.jpeg
END:VEVENT
BEGIN:VEVENT
DTSTART;TZID=Europe/Madrid:20250611T190000
DTEND;TZID=Europe/Madrid:20250611T203000
DTSTAMP:20260423T134954
CREATED:20250607T061401Z
LAST-MODIFIED:20250607T061401Z
UID:67379-1749668400-1749673800@solidaridad.net
SUMMARY:Madrid: Proyecto misionero del Movimiento Cultural Cristiano en Venezuela y Perú
DESCRIPTION:Presentación del Proyecto misionero del Movimiento Cultural Cristiano en Venezuela y Perú\, por Carlos Ruiz\, sacerdote y misionero. Tendrá lugar el miércoles 11 de junio a las 19h en la Librería DERSA\, Avda. Monforte de Lemos\, 162 bajo. Madrid. \n\n	Aviso: Se requiere JavaScript para este contenido.\n\n\n    \n\n\n        \n        \n        \n 
URL:https://solidaridad.net/evento/madrid-proyecto-misionero-del-movimiento-cultural-cristiano-en-venezuela-y-peru/
CATEGORIES:Charla-Tertulia
ATTACH;FMTTYPE=image/jpeg:https://solidaridad.net/wp-content/uploads/2025/06/068C7EF7-412D-4928-A669-EE1B5CAA0A7C.jpeg
END:VEVENT
BEGIN:VEVENT
DTSTART;TZID=Europe/Madrid:20250619T190000
DTEND;TZID=Europe/Madrid:20250619T203000
DTSTAMP:20260423T134954
CREATED:20250612T114238Z
LAST-MODIFIED:20250612T114238Z
UID:67399-1750359600-1750365000@solidaridad.net
SUMMARY:Madrid: La Escuela de Salamanca frente al liberalismo
DESCRIPTION:Reflexión en torno a la aportación de esta escuela de pensamiento a la historia\, a la política y a la cultura universal. \nA cargo de D. Juan Carlos Utrera\, profesor de Filosofía del Derecho por la UNED. \nEl acto comenzará a las 19 h. del jueves 19 de junio\, en la Casa de Cultura y Solidaridad del Movimiento Cultural Cristiano en Madrid \nSi no puedes asistir y quieres seguirlo por ZOOM rellena el formulario al final de este enlace \n«La Escuela de Salamanca frente al liberalismo» \n \n 
URL:https://solidaridad.net/evento/madrid-la-escuela-de-salamanca-frente-al-liberalismo/
CATEGORIES:Charla-Tertulia
ATTACH;FMTTYPE=image/jpeg:https://solidaridad.net/wp-content/uploads/2025/06/Foro-Escuela-de-Salamanca.jpg
END:VEVENT
END:VCALENDAR