BEGIN:VCALENDAR
VERSION:2.0
PRODID:-//Solidaridad.net - ECPv6.15.17.1//NONSGML v1.0//EN
CALSCALE:GREGORIAN
METHOD:PUBLISH
X-WR-CALNAME:Solidaridad.net
X-ORIGINAL-URL:https://solidaridad.net
X-WR-CALDESC:Eventos para Solidaridad.net
REFRESH-INTERVAL;VALUE=DURATION:PT1H
X-Robots-Tag:noindex
X-PUBLISHED-TTL:PT1H
BEGIN:VTIMEZONE
TZID:Europe/Madrid
BEGIN:DAYLIGHT
TZOFFSETFROM:+0100
TZOFFSETTO:+0200
TZNAME:CEST
DTSTART:20240331T010000
END:DAYLIGHT
BEGIN:STANDARD
TZOFFSETFROM:+0200
TZOFFSETTO:+0100
TZNAME:CET
DTSTART:20241027T010000
END:STANDARD
BEGIN:DAYLIGHT
TZOFFSETFROM:+0100
TZOFFSETTO:+0200
TZNAME:CEST
DTSTART:20250330T010000
END:DAYLIGHT
BEGIN:STANDARD
TZOFFSETFROM:+0200
TZOFFSETTO:+0100
TZNAME:CET
DTSTART:20251026T010000
END:STANDARD
BEGIN:DAYLIGHT
TZOFFSETFROM:+0100
TZOFFSETTO:+0200
TZNAME:CEST
DTSTART:20260329T010000
END:DAYLIGHT
BEGIN:STANDARD
TZOFFSETFROM:+0200
TZOFFSETTO:+0100
TZNAME:CET
DTSTART:20261025T010000
END:STANDARD
END:VTIMEZONE
BEGIN:VEVENT
DTSTART;TZID=Europe/Madrid:20251001T170000
DTEND;TZID=Europe/Madrid:20251001T210000
DTSTAMP:20260423T085047
CREATED:20250925T175456Z
LAST-MODIFIED:20250925T175456Z
UID:67797-1759338000-1759352400@solidaridad.net
SUMMARY:Córdoba: Exposición sobre migrantes y refugiados
DESCRIPTION:Con motivo de la Jornada mundial del migrante y del refugiado se llevará a cabo una Exposición sobre migrantes y refugiados el miércoles 1 de octubre a las 17h en la Casa de Cultura y Solidaridad (Calle Maestro Priego López\, 20) Córdoba.
URL:https://solidaridad.net/evento/cordoba-exposicion-sobre-migrantes-y-refugiados/
CATEGORIES:Charla-Tertulia
ATTACH;FMTTYPE=image/jpeg:https://solidaridad.net/wp-content/uploads/2025/09/104F3B78-89D7-47FA-97AB-73559D55FAD2.jpeg
END:VEVENT
BEGIN:VEVENT
DTSTART;TZID=Europe/Madrid:20251008T190000
DTEND;TZID=Europe/Madrid:20251008T200000
DTSTAMP:20260423T085047
CREATED:20250910T161708Z
LAST-MODIFIED:20250910T161708Z
UID:67722-1759950000-1759953600@solidaridad.net
SUMMARY:Madrid: Análisis de la situación de las guerras en Sudán y la R.D. Congo
DESCRIPTION:Damos comienzo al curso 2025-26 con el centro cultural sobre Análisis de la situación de las guerras en Sudán y la R.D. Congo por Enrique Bayo\, director de la revista Mundo Negro. Tendrá lugar el miércoles 8 de octubre a las 19h en la Casa de Cultura y Solidaridad (Avda. Monforte de Lemos\, 162)\, Madrid. \nAsistencia presencial o telemática: \n\n	Aviso: Se requiere JavaScript para este contenido.
URL:https://solidaridad.net/evento/madrid-analisis-de-la-situacion-de-las-guerras-en-sudan-y-la-r-d-congo/
CATEGORIES:Charla-Tertulia
ATTACH;FMTTYPE=image/jpeg:https://solidaridad.net/wp-content/uploads/2025/09/WhatsApp-Image-2025-09-10-at-17.20.24.jpeg
END:VEVENT
BEGIN:VEVENT
DTSTART;TZID=Europe/Madrid:20251016T190000
DTEND;TZID=Europe/Madrid:20251016T190000
DTSTAMP:20260423T085047
CREATED:20250908T084007Z
LAST-MODIFIED:20250923T155012Z
UID:67715-1760641200-1760641200@solidaridad.net
SUMMARY:Madrid: Foro Julián Gómez del Castillo. Escuela de formación política
DESCRIPTION:Foro Julián Gómez del Castillo. Escuela de formación política.  \nEl jueves\, 16 de octubre a las 19h tendrá lugar el primer encuentro que abordará «La Autogestión. Una nueva forma de cultura.» Por María del Mar Araus. En la librería DERSA (Avd. Monforte de Lemos\, 162)\, Madrid. \nWeb del Foro Julián Gómez del Castillo
URL:https://solidaridad.net/evento/madrid-foro-julian-gomez-del-castillo-escuela-de-formacion-politica/
CATEGORIES:Charla-Tertulia
ATTACH;FMTTYPE=image/jpeg:https://solidaridad.net/wp-content/uploads/2025/09/octubre-foro.jpg
END:VEVENT
END:VCALENDAR