BEGIN:VCALENDAR
VERSION:2.0
PRODID:-//Solidaridad.net - ECPv6.15.17.1//NONSGML v1.0//EN
CALSCALE:GREGORIAN
METHOD:PUBLISH
X-ORIGINAL-URL:https://solidaridad.net
X-WR-CALDESC:Eventos para Solidaridad.net
REFRESH-INTERVAL;VALUE=DURATION:PT1H
X-Robots-Tag:noindex
X-PUBLISHED-TTL:PT1H
BEGIN:VTIMEZONE
TZID:Europe/Madrid
BEGIN:DAYLIGHT
TZOFFSETFROM:+0100
TZOFFSETTO:+0200
TZNAME:CEST
DTSTART:20230326T010000
END:DAYLIGHT
BEGIN:STANDARD
TZOFFSETFROM:+0200
TZOFFSETTO:+0100
TZNAME:CET
DTSTART:20231029T010000
END:STANDARD
BEGIN:DAYLIGHT
TZOFFSETFROM:+0100
TZOFFSETTO:+0200
TZNAME:CEST
DTSTART:20240331T010000
END:DAYLIGHT
BEGIN:STANDARD
TZOFFSETFROM:+0200
TZOFFSETTO:+0100
TZNAME:CET
DTSTART:20241027T010000
END:STANDARD
BEGIN:DAYLIGHT
TZOFFSETFROM:+0100
TZOFFSETTO:+0200
TZNAME:CEST
DTSTART:20250330T010000
END:DAYLIGHT
BEGIN:STANDARD
TZOFFSETFROM:+0200
TZOFFSETTO:+0100
TZNAME:CET
DTSTART:20251026T010000
END:STANDARD
END:VTIMEZONE
BEGIN:VEVENT
DTSTART;TZID=Europe/Madrid:20240112T200000
DTEND;TZID=Europe/Madrid:20240112T210000
DTSTAMP:20260424T110353
CREATED:20240107T225645Z
LAST-MODIFIED:20240107T225645Z
UID:64747-1705089600-1705093200@solidaridad.net
SUMMARY:ÚBEDA: Presentación del libro “Emergencia Educativa”
DESCRIPTION:Presentación del libro “Emergencia Educativa: Juventud…a pesar de todo” por Manuel Araus. En la Casa de Cultura y Solidaridad “Pepe Barrera”\, calle San Cristóbal nº 23\, el Viernes 12 de enero a las 20 h.
URL:https://solidaridad.net/evento/ubeda-presentacion-del-libro-emergencia-educativa/
CATEGORIES:Charla-Tertulia
ATTACH;FMTTYPE=image/jpeg:https://solidaridad.net/wp-content/uploads/2024/01/1AA800BD-C4EB-467C-A378-59B683895B29.jpeg
END:VEVENT
END:VCALENDAR