BEGIN:VCALENDAR
VERSION:2.0
PRODID:-//Solidaridad.net - ECPv6.15.17.1//NONSGML v1.0//EN
CALSCALE:GREGORIAN
METHOD:PUBLISH
X-WR-CALNAME:Solidaridad.net
X-ORIGINAL-URL:https://solidaridad.net
X-WR-CALDESC:Eventos para Solidaridad.net
REFRESH-INTERVAL;VALUE=DURATION:PT1H
X-Robots-Tag:noindex
X-PUBLISHED-TTL:PT1H
BEGIN:VTIMEZONE
TZID:Europe/Madrid
BEGIN:DAYLIGHT
TZOFFSETFROM:+0100
TZOFFSETTO:+0200
TZNAME:CEST
DTSTART:20230326T010000
END:DAYLIGHT
BEGIN:STANDARD
TZOFFSETFROM:+0200
TZOFFSETTO:+0100
TZNAME:CET
DTSTART:20231029T010000
END:STANDARD
BEGIN:DAYLIGHT
TZOFFSETFROM:+0100
TZOFFSETTO:+0200
TZNAME:CEST
DTSTART:20240331T010000
END:DAYLIGHT
BEGIN:STANDARD
TZOFFSETFROM:+0200
TZOFFSETTO:+0100
TZNAME:CET
DTSTART:20241027T010000
END:STANDARD
BEGIN:DAYLIGHT
TZOFFSETFROM:+0100
TZOFFSETTO:+0200
TZNAME:CEST
DTSTART:20250330T010000
END:DAYLIGHT
BEGIN:STANDARD
TZOFFSETFROM:+0200
TZOFFSETTO:+0100
TZNAME:CET
DTSTART:20251026T010000
END:STANDARD
END:VTIMEZONE
BEGIN:VEVENT
DTSTART;TZID=Europe/Madrid:20241018T193000
DTEND;TZID=Europe/Madrid:20241018T203000
DTSTAMP:20260424T000314
CREATED:20241007T053450Z
LAST-MODIFIED:20241007T053451Z
UID:66060-1729279800-1729283400@solidaridad.net
SUMMARY:Sevilla: ¿Sociedad libre\, idiota o totalitaria?
DESCRIPTION:Conferencia sobre “¿Sociedad libre\, idiota o totalitaria? La lucha de Sophie Scholl y la Rosa Blanca contra el totalitarismo” y presentación del libro “¡Jaque a Hitler!” por Rainer Uphoff. \nTendrá lugar el viernes 18 de octubre a las 19:30 h\, en la casa de Cultura y Solidaridad del MCC. Calle Nicolás Pisano (Ciudad Jardín)\, Sevilla.
URL:https://solidaridad.net/evento/sevilla-sociedad-libre-idiota-o-totalitaria/
CATEGORIES:Charla-Tertulia
ATTACH;FMTTYPE=image/jpeg:https://solidaridad.net/wp-content/uploads/2024/10/1DCDF634-40E0-4A3D-B5EF-C5AC4F54E28F.jpeg
END:VEVENT
END:VCALENDAR