BEGIN:VCALENDAR
VERSION:2.0
PRODID:-//Solidaridad.net - ECPv6.15.17.1//NONSGML v1.0//EN
CALSCALE:GREGORIAN
METHOD:PUBLISH
X-WR-CALNAME:Solidaridad.net
X-ORIGINAL-URL:https://solidaridad.net
X-WR-CALDESC:Eventos para Solidaridad.net
REFRESH-INTERVAL;VALUE=DURATION:PT1H
X-Robots-Tag:noindex
X-PUBLISHED-TTL:PT1H
BEGIN:VTIMEZONE
TZID:Europe/Madrid
BEGIN:DAYLIGHT
TZOFFSETFROM:+0100
TZOFFSETTO:+0200
TZNAME:CEST
DTSTART:20230326T010000
END:DAYLIGHT
BEGIN:STANDARD
TZOFFSETFROM:+0200
TZOFFSETTO:+0100
TZNAME:CET
DTSTART:20231029T010000
END:STANDARD
BEGIN:DAYLIGHT
TZOFFSETFROM:+0100
TZOFFSETTO:+0200
TZNAME:CEST
DTSTART:20240331T010000
END:DAYLIGHT
BEGIN:STANDARD
TZOFFSETFROM:+0200
TZOFFSETTO:+0100
TZNAME:CET
DTSTART:20241027T010000
END:STANDARD
BEGIN:DAYLIGHT
TZOFFSETFROM:+0100
TZOFFSETTO:+0200
TZNAME:CEST
DTSTART:20250330T010000
END:DAYLIGHT
BEGIN:STANDARD
TZOFFSETFROM:+0200
TZOFFSETTO:+0100
TZNAME:CET
DTSTART:20251026T010000
END:STANDARD
END:VTIMEZONE
BEGIN:VEVENT
DTSTART;TZID=Europe/Madrid:20241126T190000
DTEND;TZID=Europe/Madrid:20241126T203000
DTSTAMP:20260423T215004
CREATED:20241125T165034Z
LAST-MODIFIED:20241125T165048Z
UID:66225-1732647600-1732653000@solidaridad.net
SUMMARY:Córdoba: "El negocio de la alimentación"
DESCRIPTION:
URL:https://solidaridad.net/evento/cordoba-el-negocio-de-la-alimentacion/
CATEGORIES:Charla-Tertulia
ATTACH;FMTTYPE=image/jpeg:https://solidaridad.net/wp-content/uploads/2024/11/negocio-alimentacion.jpg
END:VEVENT
BEGIN:VEVENT
DTSTART;TZID=Europe/Madrid:20241126T193000
DTEND;TZID=Europe/Madrid:20241126T203000
DTSTAMP:20260423T215004
CREATED:20241119T103657Z
LAST-MODIFIED:20241119T103657Z
UID:66192-1732649400-1732653000@solidaridad.net
SUMMARY:Granada: ¿Sociedad libre\, idiota o totalitaria?
DESCRIPTION:Ponencia sobre «¿Sociedad libre\, idiota o totalitaria? La lucha de Sophie Scholl y la Rosa Blanca contra el totalitarismo.» Presentación del libro !Jaque a Hitler! por Rainer Uphoff. \nTendrá lugar el martes\, 26 de noviembre a las 19.30 h en la Casa de Cultura y Solidaridad del MCC\, Avenida Pulianas\, 15\, Granada.
URL:https://solidaridad.net/evento/granada-sociedad-libre-idiota-o-totalitaria/
CATEGORIES:Charla-Tertulia
ATTACH;FMTTYPE=image/jpeg:https://solidaridad.net/wp-content/uploads/2024/11/WhatsApp-Image-2024-11-19-at-11.28.15.jpeg
END:VEVENT
END:VCALENDAR