BEGIN:VCALENDAR
VERSION:2.0
PRODID:-//Solidaridad.net - ECPv6.15.17.1//NONSGML v1.0//EN
CALSCALE:GREGORIAN
METHOD:PUBLISH
X-ORIGINAL-URL:https://solidaridad.net
X-WR-CALDESC:Eventos para Solidaridad.net
REFRESH-INTERVAL;VALUE=DURATION:PT1H
X-Robots-Tag:noindex
X-PUBLISHED-TTL:PT1H
BEGIN:VTIMEZONE
TZID:Europe/Madrid
BEGIN:DAYLIGHT
TZOFFSETFROM:+0100
TZOFFSETTO:+0200
TZNAME:CEST
DTSTART:20230326T010000
END:DAYLIGHT
BEGIN:STANDARD
TZOFFSETFROM:+0200
TZOFFSETTO:+0100
TZNAME:CET
DTSTART:20231029T010000
END:STANDARD
BEGIN:DAYLIGHT
TZOFFSETFROM:+0100
TZOFFSETTO:+0200
TZNAME:CEST
DTSTART:20240331T010000
END:DAYLIGHT
BEGIN:STANDARD
TZOFFSETFROM:+0200
TZOFFSETTO:+0100
TZNAME:CET
DTSTART:20241027T010000
END:STANDARD
BEGIN:DAYLIGHT
TZOFFSETFROM:+0100
TZOFFSETTO:+0200
TZNAME:CEST
DTSTART:20250330T010000
END:DAYLIGHT
BEGIN:STANDARD
TZOFFSETFROM:+0200
TZOFFSETTO:+0100
TZNAME:CET
DTSTART:20251026T010000
END:STANDARD
END:VTIMEZONE
BEGIN:VEVENT
DTSTART;TZID=Europe/Madrid:20241204T193000
DTEND;TZID=Europe/Madrid:20241204T203000
DTSTAMP:20260423T215023
CREATED:20241125T163945Z
LAST-MODIFIED:20241125T163945Z
UID:66222-1733340600-1733344200@solidaridad.net
SUMMARY:Madrid: Festival artístico - solidario
DESCRIPTION:Festival artístico – solidario el miércoles 4 de diciembre a las 19.30h en la Casa de Cultura y Solidaridad. Avenida Monforte de Lemos 162\, bajo.
URL:https://solidaridad.net/evento/madrid-festival-artistico-solidario/
CATEGORIES:Charla-Tertulia
ATTACH;FMTTYPE=image/jpeg:https://solidaridad.net/wp-content/uploads/2024/11/WhatsApp-Image-2024-11-25-at-12.49.59.jpeg
END:VEVENT
END:VCALENDAR