BEGIN:VCALENDAR
VERSION:2.0
PRODID:-//Solidaridad.net - ECPv6.15.17.1//NONSGML v1.0//EN
CALSCALE:GREGORIAN
METHOD:PUBLISH
X-WR-CALNAME:Solidaridad.net
X-ORIGINAL-URL:https://solidaridad.net
X-WR-CALDESC:Eventos para Solidaridad.net
REFRESH-INTERVAL;VALUE=DURATION:PT1H
X-Robots-Tag:noindex
X-PUBLISHED-TTL:PT1H
BEGIN:VTIMEZONE
TZID:Europe/Madrid
BEGIN:DAYLIGHT
TZOFFSETFROM:+0100
TZOFFSETTO:+0200
TZNAME:CEST
DTSTART:20230326T010000
END:DAYLIGHT
BEGIN:STANDARD
TZOFFSETFROM:+0200
TZOFFSETTO:+0100
TZNAME:CET
DTSTART:20231029T010000
END:STANDARD
BEGIN:DAYLIGHT
TZOFFSETFROM:+0100
TZOFFSETTO:+0200
TZNAME:CEST
DTSTART:20240331T010000
END:DAYLIGHT
BEGIN:STANDARD
TZOFFSETFROM:+0200
TZOFFSETTO:+0100
TZNAME:CET
DTSTART:20241027T010000
END:STANDARD
BEGIN:DAYLIGHT
TZOFFSETFROM:+0100
TZOFFSETTO:+0200
TZNAME:CEST
DTSTART:20250330T010000
END:DAYLIGHT
BEGIN:STANDARD
TZOFFSETFROM:+0200
TZOFFSETTO:+0100
TZNAME:CET
DTSTART:20251026T010000
END:STANDARD
END:VTIMEZONE
BEGIN:VEVENT
DTSTART;TZID=Europe/Madrid:20241216T193000
DTEND;TZID=Europe/Madrid:20241216T203000
DTSTAMP:20260423T215005
CREATED:20241211T112026Z
LAST-MODIFIED:20241211T112026Z
UID:66341-1734377400-1734381000@solidaridad.net
SUMMARY:Pamplona: El hambre\, primer problema político de la humanidad
DESCRIPTION:Ponencia “El hambre\, primer problema político de la humanidad” por Ángela Elosegi. Tendrá lugar el Lunes 16 de diciembre a las 19.30 h en los Locales Pastorales de la Parroquia San Alberto Magno\, Travesía Monasterio de Belate\, 2. Pamplona.
URL:https://solidaridad.net/evento/pamplona-el-hambre-primer-problema-politico-de-la-humanidad/
CATEGORIES:Charla-Tertulia
ATTACH;FMTTYPE=image/jpeg:https://solidaridad.net/wp-content/uploads/2024/12/WhatsApp-Image-2024-12-11-at-11.43.29.jpeg
END:VEVENT
END:VCALENDAR