BEGIN:VCALENDAR
VERSION:2.0
PRODID:-//Solidaridad.net - ECPv6.15.17.1//NONSGML v1.0//EN
CALSCALE:GREGORIAN
METHOD:PUBLISH
X-ORIGINAL-URL:https://solidaridad.net
X-WR-CALDESC:Eventos para Solidaridad.net
REFRESH-INTERVAL;VALUE=DURATION:PT1H
X-Robots-Tag:noindex
X-PUBLISHED-TTL:PT1H
BEGIN:VTIMEZONE
TZID:Europe/Madrid
BEGIN:DAYLIGHT
TZOFFSETFROM:+0100
TZOFFSETTO:+0200
TZNAME:CEST
DTSTART:20240331T010000
END:DAYLIGHT
BEGIN:STANDARD
TZOFFSETFROM:+0200
TZOFFSETTO:+0100
TZNAME:CET
DTSTART:20241027T010000
END:STANDARD
BEGIN:DAYLIGHT
TZOFFSETFROM:+0100
TZOFFSETTO:+0200
TZNAME:CEST
DTSTART:20250330T010000
END:DAYLIGHT
BEGIN:STANDARD
TZOFFSETFROM:+0200
TZOFFSETTO:+0100
TZNAME:CET
DTSTART:20251026T010000
END:STANDARD
BEGIN:DAYLIGHT
TZOFFSETFROM:+0100
TZOFFSETTO:+0200
TZNAME:CEST
DTSTART:20260329T010000
END:DAYLIGHT
BEGIN:STANDARD
TZOFFSETFROM:+0200
TZOFFSETTO:+0100
TZNAME:CET
DTSTART:20261025T010000
END:STANDARD
END:VTIMEZONE
BEGIN:VEVENT
DTSTART;TZID=Europe/Madrid:20250522T190000
DTEND;TZID=Europe/Madrid:20250522T203000
DTSTAMP:20260423T161618
CREATED:20250516T075511Z
LAST-MODIFIED:20250516T075511Z
UID:67254-1747940400-1747945800@solidaridad.net
SUMMARY:Madrid- Foro JGC- La izquierda postmoderna y el neocapitalismo
DESCRIPTION:Foro Julián Gómez del Castillo\nEn esta aportación que realizará el profesor D. José Luis Muñoz de Baena\, se profundizará en la deriva que ha tomado la «nueva izquierda» conducida por los postulados del neocapitalismo.\nJueves 22 de mayo a las 19h en la librería DERSA. Asistencia presencial o mediante enlace al zoom.
URL:https://solidaridad.net/evento/madrid-foro-jgc-la-izquierda-postmoderna-y-el-neocapitalismo/
CATEGORIES:Charla-Tertulia
ATTACH;FMTTYPE=image/jpeg:https://solidaridad.net/wp-content/uploads/2025/05/WhatsApp-Image-2025-05-14-at-22.00.32.jpeg
END:VEVENT
END:VCALENDAR