BEGIN:VCALENDAR
VERSION:2.0
PRODID:-//Solidaridad.net - ECPv6.15.17.1//NONSGML v1.0//EN
CALSCALE:GREGORIAN
METHOD:PUBLISH
X-WR-CALNAME:Solidaridad.net
X-ORIGINAL-URL:https://solidaridad.net
X-WR-CALDESC:Eventos para Solidaridad.net
REFRESH-INTERVAL;VALUE=DURATION:PT1H
X-Robots-Tag:noindex
X-PUBLISHED-TTL:PT1H
BEGIN:VTIMEZONE
TZID:Europe/Madrid
BEGIN:DAYLIGHT
TZOFFSETFROM:+0100
TZOFFSETTO:+0200
TZNAME:CEST
DTSTART:20240331T010000
END:DAYLIGHT
BEGIN:STANDARD
TZOFFSETFROM:+0200
TZOFFSETTO:+0100
TZNAME:CET
DTSTART:20241027T010000
END:STANDARD
BEGIN:DAYLIGHT
TZOFFSETFROM:+0100
TZOFFSETTO:+0200
TZNAME:CEST
DTSTART:20250330T010000
END:DAYLIGHT
BEGIN:STANDARD
TZOFFSETFROM:+0200
TZOFFSETTO:+0100
TZNAME:CET
DTSTART:20251026T010000
END:STANDARD
BEGIN:DAYLIGHT
TZOFFSETFROM:+0100
TZOFFSETTO:+0200
TZNAME:CEST
DTSTART:20260329T010000
END:DAYLIGHT
BEGIN:STANDARD
TZOFFSETFROM:+0200
TZOFFSETTO:+0100
TZNAME:CET
DTSTART:20261025T010000
END:STANDARD
END:VTIMEZONE
BEGIN:VEVENT
DTSTART;TZID=Europe/Madrid:20250611T190000
DTEND;TZID=Europe/Madrid:20250611T203000
DTSTAMP:20260423T150517
CREATED:20250607T061401Z
LAST-MODIFIED:20250607T061401Z
UID:67379-1749668400-1749673800@solidaridad.net
SUMMARY:Madrid: Proyecto misionero del Movimiento Cultural Cristiano en Venezuela y Perú
DESCRIPTION:Presentación del Proyecto misionero del Movimiento Cultural Cristiano en Venezuela y Perú\, por Carlos Ruiz\, sacerdote y misionero. Tendrá lugar el miércoles 11 de junio a las 19h en la Librería DERSA\, Avda. Monforte de Lemos\, 162 bajo. Madrid. \n\n	Aviso: Se requiere JavaScript para este contenido.\n\n\n    \n\n\n        \n        \n        \n 
URL:https://solidaridad.net/evento/madrid-proyecto-misionero-del-movimiento-cultural-cristiano-en-venezuela-y-peru/
CATEGORIES:Charla-Tertulia
ATTACH;FMTTYPE=image/jpeg:https://solidaridad.net/wp-content/uploads/2025/06/068C7EF7-412D-4928-A669-EE1B5CAA0A7C.jpeg
END:VEVENT
END:VCALENDAR