BEGIN:VCALENDAR
VERSION:2.0
PRODID:-//Solidaridad.net - ECPv6.15.17.1//NONSGML v1.0//EN
CALSCALE:GREGORIAN
METHOD:PUBLISH
X-WR-CALNAME:Solidaridad.net
X-ORIGINAL-URL:https://solidaridad.net
X-WR-CALDESC:Eventos para Solidaridad.net
REFRESH-INTERVAL;VALUE=DURATION:PT1H
X-Robots-Tag:noindex
X-PUBLISHED-TTL:PT1H
BEGIN:VTIMEZONE
TZID:Europe/Madrid
BEGIN:DAYLIGHT
TZOFFSETFROM:+0100
TZOFFSETTO:+0200
TZNAME:CEST
DTSTART:20240331T010000
END:DAYLIGHT
BEGIN:STANDARD
TZOFFSETFROM:+0200
TZOFFSETTO:+0100
TZNAME:CET
DTSTART:20241027T010000
END:STANDARD
BEGIN:DAYLIGHT
TZOFFSETFROM:+0100
TZOFFSETTO:+0200
TZNAME:CEST
DTSTART:20250330T010000
END:DAYLIGHT
BEGIN:STANDARD
TZOFFSETFROM:+0200
TZOFFSETTO:+0100
TZNAME:CET
DTSTART:20251026T010000
END:STANDARD
BEGIN:DAYLIGHT
TZOFFSETFROM:+0100
TZOFFSETTO:+0200
TZNAME:CEST
DTSTART:20260329T010000
END:DAYLIGHT
BEGIN:STANDARD
TZOFFSETFROM:+0200
TZOFFSETTO:+0100
TZNAME:CET
DTSTART:20261025T010000
END:STANDARD
END:VTIMEZONE
BEGIN:VEVENT
DTSTART;TZID=Europe/Madrid:20251001T170000
DTEND;TZID=Europe/Madrid:20251001T210000
DTSTAMP:20260423T100602
CREATED:20250925T175456Z
LAST-MODIFIED:20250925T175456Z
UID:67797-1759338000-1759352400@solidaridad.net
SUMMARY:Córdoba: Exposición sobre migrantes y refugiados
DESCRIPTION:Con motivo de la Jornada mundial del migrante y del refugiado se llevará a cabo una Exposición sobre migrantes y refugiados el miércoles 1 de octubre a las 17h en la Casa de Cultura y Solidaridad (Calle Maestro Priego López\, 20) Córdoba.
URL:https://solidaridad.net/evento/cordoba-exposicion-sobre-migrantes-y-refugiados/
CATEGORIES:Charla-Tertulia
ATTACH;FMTTYPE=image/jpeg:https://solidaridad.net/wp-content/uploads/2025/09/104F3B78-89D7-47FA-97AB-73559D55FAD2.jpeg
END:VEVENT
END:VCALENDAR