BEGIN:VCALENDAR
VERSION:2.0
PRODID:-//Solidaridad.net - ECPv6.15.17.1//NONSGML v1.0//EN
CALSCALE:GREGORIAN
METHOD:PUBLISH
X-WR-CALNAME:Solidaridad.net
X-ORIGINAL-URL:https://solidaridad.net
X-WR-CALDESC:Eventos para Solidaridad.net
REFRESH-INTERVAL;VALUE=DURATION:PT1H
X-Robots-Tag:noindex
X-PUBLISHED-TTL:PT1H
BEGIN:VTIMEZONE
TZID:Europe/Madrid
BEGIN:DAYLIGHT
TZOFFSETFROM:+0100
TZOFFSETTO:+0200
TZNAME:CEST
DTSTART:20240331T010000
END:DAYLIGHT
BEGIN:STANDARD
TZOFFSETFROM:+0200
TZOFFSETTO:+0100
TZNAME:CET
DTSTART:20241027T010000
END:STANDARD
BEGIN:DAYLIGHT
TZOFFSETFROM:+0100
TZOFFSETTO:+0200
TZNAME:CEST
DTSTART:20250330T010000
END:DAYLIGHT
BEGIN:STANDARD
TZOFFSETFROM:+0200
TZOFFSETTO:+0100
TZNAME:CET
DTSTART:20251026T010000
END:STANDARD
BEGIN:DAYLIGHT
TZOFFSETFROM:+0100
TZOFFSETTO:+0200
TZNAME:CEST
DTSTART:20260329T010000
END:DAYLIGHT
BEGIN:STANDARD
TZOFFSETFROM:+0200
TZOFFSETTO:+0100
TZNAME:CET
DTSTART:20261025T010000
END:STANDARD
END:VTIMEZONE
BEGIN:VEVENT
DTSTART;TZID=Europe/Madrid:20251110T193000
DTEND;TZID=Europe/Madrid:20251110T203000
DTSTAMP:20260423T085301
CREATED:20251030T181326Z
LAST-MODIFIED:20251030T181326Z
UID:67934-1762803000-1762806600@solidaridad.net
SUMMARY:Pamplona: Entre la rabia y la ternura
DESCRIPTION:Entre la rabia y la ternura. Acompañando a las victimas de la guerra en Siria 2ª parte. Por el Padre D. Livio Ledezma. \nTendrá lugar el lunes\, 10 de Noviembre a las 19.30h en los Locales Pastorales San Alberto\, Travesía Monasterio de Belate\, 2\, Pamplona.
URL:https://solidaridad.net/evento/pamplona-entre-la-rabia-y-la-ternura-2/
CATEGORIES:Charla-Tertulia
ATTACH;FMTTYPE=image/jpeg:https://solidaridad.net/wp-content/uploads/2025/10/WhatsApp-Image-2025-10-30-at-12.18.39.jpeg
END:VEVENT
END:VCALENDAR