BEGIN:VCALENDAR
VERSION:2.0
PRODID:-//Solidaridad.net - ECPv6.15.17.1//NONSGML v1.0//EN
CALSCALE:GREGORIAN
METHOD:PUBLISH
X-ORIGINAL-URL:https://solidaridad.net
X-WR-CALDESC:Eventos para Solidaridad.net
REFRESH-INTERVAL;VALUE=DURATION:PT1H
X-Robots-Tag:noindex
X-PUBLISHED-TTL:PT1H
BEGIN:VTIMEZONE
TZID:Europe/Madrid
BEGIN:DAYLIGHT
TZOFFSETFROM:+0100
TZOFFSETTO:+0200
TZNAME:CEST
DTSTART:20250330T010000
END:DAYLIGHT
BEGIN:STANDARD
TZOFFSETFROM:+0200
TZOFFSETTO:+0100
TZNAME:CET
DTSTART:20251026T010000
END:STANDARD
BEGIN:DAYLIGHT
TZOFFSETFROM:+0100
TZOFFSETTO:+0200
TZNAME:CEST
DTSTART:20260329T010000
END:DAYLIGHT
BEGIN:STANDARD
TZOFFSETFROM:+0200
TZOFFSETTO:+0100
TZNAME:CET
DTSTART:20261025T010000
END:STANDARD
BEGIN:DAYLIGHT
TZOFFSETFROM:+0100
TZOFFSETTO:+0200
TZNAME:CEST
DTSTART:20270328T010000
END:DAYLIGHT
BEGIN:STANDARD
TZOFFSETFROM:+0200
TZOFFSETTO:+0100
TZNAME:CET
DTSTART:20271031T010000
END:STANDARD
END:VTIMEZONE
BEGIN:VEVENT
DTSTART;TZID=Europe/Madrid:20260304T190000
DTEND;TZID=Europe/Madrid:20260304T203000
DTSTAMP:20260423T045136
CREATED:20260225T161556Z
LAST-MODIFIED:20260225T161558Z
UID:68492-1772650800-1772656200@solidaridad.net
SUMMARY:Madrid: Presentación del libro "Presta atención"
DESCRIPTION:Presentación del libro Presta Atención por Manuel Araus\, autor del libro.\nMiércoles 4 de marzo a las 19h en la Casa de Cultura y Solidaridad Dersa\, Avenida Monforte de Lemos\, 162\, Madrid. \nPresencial y por Zoom.
URL:https://solidaridad.net/evento/madrid-presentacion-del-libro-presta-atencion-2/
CATEGORIES:Charla-Tertulia
ATTACH;FMTTYPE=image/jpeg:https://solidaridad.net/wp-content/uploads/2026/02/WhatsApp-Image-2026-02-25-at-15.55.37.jpeg
END:VEVENT
END:VCALENDAR