BEGIN:VCALENDAR
VERSION:2.0
PRODID:-//Solidaridad.net - ECPv6.15.17.1//NONSGML v1.0//EN
CALSCALE:GREGORIAN
METHOD:PUBLISH
X-WR-CALNAME:Solidaridad.net
X-ORIGINAL-URL:https://solidaridad.net
X-WR-CALDESC:Eventos para Solidaridad.net
REFRESH-INTERVAL;VALUE=DURATION:PT1H
X-Robots-Tag:noindex
X-PUBLISHED-TTL:PT1H
BEGIN:VTIMEZONE
TZID:Europe/Madrid
BEGIN:DAYLIGHT
TZOFFSETFROM:+0100
TZOFFSETTO:+0200
TZNAME:CEST
DTSTART:20250330T010000
END:DAYLIGHT
BEGIN:STANDARD
TZOFFSETFROM:+0200
TZOFFSETTO:+0100
TZNAME:CET
DTSTART:20251026T010000
END:STANDARD
BEGIN:DAYLIGHT
TZOFFSETFROM:+0100
TZOFFSETTO:+0200
TZNAME:CEST
DTSTART:20260329T010000
END:DAYLIGHT
BEGIN:STANDARD
TZOFFSETFROM:+0200
TZOFFSETTO:+0100
TZNAME:CET
DTSTART:20261025T010000
END:STANDARD
BEGIN:DAYLIGHT
TZOFFSETFROM:+0100
TZOFFSETTO:+0200
TZNAME:CEST
DTSTART:20270328T010000
END:DAYLIGHT
BEGIN:STANDARD
TZOFFSETFROM:+0200
TZOFFSETTO:+0100
TZNAME:CET
DTSTART:20271031T010000
END:STANDARD
END:VTIMEZONE
BEGIN:VEVENT
DTSTART;TZID=Europe/Madrid:20260306T193000
DTEND;TZID=Europe/Madrid:20260306T210000
DTSTAMP:20260423T045051
CREATED:20260301T214646Z
LAST-MODIFIED:20260301T214646Z
UID:68508-1772825400-1772830800@solidaridad.net
SUMMARY:Sevilla: Trastornos del comportamiento en los jóvenes
DESCRIPTION:Conferencia Trastornos del comportamiento en los jóvenes por Elena Lozano\, psiquiatra. \nViernes 6 de marzo a las 19.30h en la Casa de Cultura y Solidaridad del MCC\, calle Nicolás Pisano\, Sevilla.
URL:https://solidaridad.net/evento/sevilla-trastornos-del-comportamiento-en-los-jovenes/
CATEGORIES:Charla-Tertulia
ATTACH;FMTTYPE=image/jpeg:https://solidaridad.net/wp-content/uploads/2026/03/15AA4D9F-74D4-45A5-A255-0CF9E09AAB3A.jpeg
END:VEVENT
END:VCALENDAR