BEGIN:VCALENDAR
VERSION:2.0
PRODID:-//Solidaridad.net - ECPv6.15.17.1//NONSGML v1.0//EN
CALSCALE:GREGORIAN
METHOD:PUBLISH
X-ORIGINAL-URL:https://solidaridad.net
X-WR-CALDESC:Eventos para Solidaridad.net
REFRESH-INTERVAL;VALUE=DURATION:PT1H
X-Robots-Tag:noindex
X-PUBLISHED-TTL:PT1H
BEGIN:VTIMEZONE
TZID:Europe/Helsinki
BEGIN:DAYLIGHT
TZOFFSETFROM:+0200
TZOFFSETTO:+0300
TZNAME:EEST
DTSTART:20140330T010000
END:DAYLIGHT
BEGIN:STANDARD
TZOFFSETFROM:+0300
TZOFFSETTO:+0200
TZNAME:EET
DTSTART:20141026T010000
END:STANDARD
BEGIN:DAYLIGHT
TZOFFSETFROM:+0200
TZOFFSETTO:+0300
TZNAME:EEST
DTSTART:20150329T010000
END:DAYLIGHT
BEGIN:STANDARD
TZOFFSETFROM:+0300
TZOFFSETTO:+0200
TZNAME:EET
DTSTART:20151025T010000
END:STANDARD
BEGIN:DAYLIGHT
TZOFFSETFROM:+0200
TZOFFSETTO:+0300
TZNAME:EEST
DTSTART:20160327T010000
END:DAYLIGHT
BEGIN:STANDARD
TZOFFSETFROM:+0300
TZOFFSETTO:+0200
TZNAME:EET
DTSTART:20161030T010000
END:STANDARD
END:VTIMEZONE
BEGIN:VEVENT
DTSTART;TZID=Europe/Helsinki:20151206T131500
DTEND;TZID=Europe/Helsinki:20151206T140000
DTSTAMP:20260420T170851
CREATED:20151130T132422Z
LAST-MODIFIED:20151130T132854Z
UID:16004-1449407700-1449410400@solidaridad.net
SUMMARY:VILLAFRANCA DE LOS BARROS: Concentración por la Justicia Norte-Sur
DESCRIPTION:DOMINGO 6 de DICIEMBRE\, 13:15 H\, Pza de España \nLee aquí el Manifiesto por la Justicia en las relaciones Norte-Sur\, No más esclavos\, trabajo sobre Capital.
URL:https://solidaridad.net/evento/villafranca-de-los-barros-concentracion-por-la-justicia-norte-sur/
CATEGORIES:Concentración
END:VEVENT
BEGIN:VEVENT
DTSTART;TZID=Europe/Helsinki:20151210T200000
DTEND;TZID=Europe/Helsinki:20151211T210000
DTSTAMP:20260420T170851
CREATED:20151130T133507Z
LAST-MODIFIED:20151130T133915Z
UID:16007-1449777600-1449867600@solidaridad.net
SUMMARY:TORRELAVEGA: Eucaristía y Concentración por la Justicia Norte-Sur
DESCRIPTION:TORRELAVEGA: Eucaristía por la Justicia Norte-Sur \nJUEVES 1O de DICIEMBRE\, 20:00 H\, Parroquia de la Asunción \nVIERNES 11 de DICIEMBRE\, 19:30 h\, Pza Mayor \nLee aquí el Manifiesto por la Justicia en las relaciones Norte-Sur\, No más esclavos\, trabajo sobre Capital.
URL:https://solidaridad.net/evento/torrelavega-eucaristia-por-la-justicia-norte-sur/
CATEGORIES:Concentración,Eucaristía
END:VEVENT
BEGIN:VEVENT
DTSTART;TZID=Europe/Helsinki:20151211T183000
DTEND;TZID=Europe/Helsinki:20151211T193000
DTSTAMP:20260420T170851
CREATED:20151202T120709Z
LAST-MODIFIED:20151202T120709Z
UID:16084-1449858600-1449862200@solidaridad.net
SUMMARY:CORIA del RÍO (Sevilla): Concentración por la Justicia Norte-Sur
DESCRIPTION:VIERNES 11 de DICIEMBRE\, a las 18:30 h frente al Ayuntamiento \nLee aquí el Manifiesto por la Justicia en las relaciones Norte-Sur\, No más esclavos\, trabajo sobre Capital.
URL:https://solidaridad.net/evento/coria-del-rio-sevilla-concentracion-por-la-justicia-norte-sur/
CATEGORIES:Concentración
END:VEVENT
BEGIN:VEVENT
DTSTART;TZID=Europe/Helsinki:20151212T130000
DTEND;TZID=Europe/Helsinki:20151212T143000
DTSTAMP:20260420T170851
CREATED:20151130T134220Z
LAST-MODIFIED:20151130T134220Z
UID:16011-1449925200-1449930600@solidaridad.net
SUMMARY:OVIEDO: Concentración por la Justicia Norte-Sur
DESCRIPTION:SÁBADO 12 de DICIEMBRE\, 13:00 H\,  Pza del Ayuntamiento. \nEscenificación de un mapa mundial con las guerras existentes y sus consecuencias de hambre. \nLee aquí el Manifiesto por la Justicia en las relaciones Norte-Sur\, No más esclavos\, trabajo sobre Capital.
URL:https://solidaridad.net/evento/oviedo-concentracion-por-la-justicia-norte-sur/
CATEGORIES:Concentración
END:VEVENT
BEGIN:VEVENT
DTSTART;TZID=Europe/Helsinki:20151212T130000
DTEND;TZID=Europe/Helsinki:20151212T143000
DTSTAMP:20260420T170851
CREATED:20151130T134338Z
LAST-MODIFIED:20151210T220429Z
UID:16012-1449925200-1449930600@solidaridad.net
SUMMARY:GETAFE: Concentración por la Justicia Norte-Sur
DESCRIPTION:GETAFE: Concentración por la Justicia Norte-Sur \nSÁBADO 12 de DICIEMBRE\, 13:00 H\,  en la Calle Madrid en el cruce con Calle Escuelas Pías y Calle Ricardo de la Vega\, donde habrá puesto informativo desde las 11 horas \nLee aquí el Manifiesto por la Justicia en las relaciones Norte-Sur\, No más esclavos\, trabajo sobre Capital.
URL:https://solidaridad.net/evento/getafe-concentracion-por-la-justicia-norte-sur/
CATEGORIES:Concentración
END:VEVENT
BEGIN:VEVENT
DTSTART;TZID=Europe/Helsinki:20151212T193000
DTEND;TZID=Europe/Helsinki:20151212T203000
DTSTAMP:20260420T170851
CREATED:20151130T135247Z
LAST-MODIFIED:20151130T135247Z
UID:16017-1449948600-1449952200@solidaridad.net
SUMMARY:ZARAGOZA: Concentración por la Justicia Norte-Sur
DESCRIPTION:SÁBADO 12 de DICIEMBRE\, 19:30 H\, en Pza España. \nLee aquí el Manifiesto por la Justicia en las relaciones Norte-Sur\, No más esclavos\, trabajo sobre Capital.
URL:https://solidaridad.net/evento/zaragoza-concentracion-por-la-justicia-norte-sur/
CATEGORIES:Concentración
END:VEVENT
BEGIN:VEVENT
DTSTART;TZID=Europe/Helsinki:20151227T180000
DTEND;TZID=Europe/Helsinki:20151227T203000
DTSTAMP:20260420T170851
CREATED:20151130T140336Z
LAST-MODIFIED:20151215T005148Z
UID:16023-1451239200-1451248200@solidaridad.net
SUMMARY:Las PALMAS de GRAN CANARIA: Festival\, Eucaristía y Marcha-concentración por la Justicia Norte-Sur
DESCRIPTION:DOMINGO 27 de DICIEMBRE\, \n18:00 H\, FESTIVAL SOLIDARIO en la Calle Triana \n19:00 h\, EUCARISTÍA POR LA JUSTICIA en Parroquia de S. Fco (Alameda de Colón) \n20 h\, MARCHA-CONCENTRACIÓN en la Calle Triana. \n  \nLee aquí el Manifiesto por la Justicia en las relaciones Norte-Sur\, No más esclavos\, trabajo sobre Capital.
URL:https://solidaridad.net/evento/las-palmas-de-gran-canaria-festival-eucaristia-y-concentracion-por-la-justicia-norte-sur/
CATEGORIES:Concentración,Eucaristía,Jornada
END:VEVENT
END:VCALENDAR