BEGIN:VCALENDAR
VERSION:2.0
PRODID:-//Solidaridad.net - ECPv6.15.17.1//NONSGML v1.0//EN
CALSCALE:GREGORIAN
METHOD:PUBLISH
X-ORIGINAL-URL:https://solidaridad.net
X-WR-CALDESC:Eventos para Solidaridad.net
REFRESH-INTERVAL;VALUE=DURATION:PT1H
X-Robots-Tag:noindex
X-PUBLISHED-TTL:PT1H
BEGIN:VTIMEZONE
TZID:Europe/Madrid
BEGIN:DAYLIGHT
TZOFFSETFROM:+0100
TZOFFSETTO:+0200
TZNAME:CEST
DTSTART:20230326T010000
END:DAYLIGHT
BEGIN:STANDARD
TZOFFSETFROM:+0200
TZOFFSETTO:+0100
TZNAME:CET
DTSTART:20231029T010000
END:STANDARD
BEGIN:DAYLIGHT
TZOFFSETFROM:+0100
TZOFFSETTO:+0200
TZNAME:CEST
DTSTART:20240331T010000
END:DAYLIGHT
BEGIN:STANDARD
TZOFFSETFROM:+0200
TZOFFSETTO:+0100
TZNAME:CET
DTSTART:20241027T010000
END:STANDARD
BEGIN:DAYLIGHT
TZOFFSETFROM:+0100
TZOFFSETTO:+0200
TZNAME:CEST
DTSTART:20250330T010000
END:DAYLIGHT
BEGIN:STANDARD
TZOFFSETFROM:+0200
TZOFFSETTO:+0100
TZNAME:CET
DTSTART:20251026T010000
END:STANDARD
END:VTIMEZONE
BEGIN:VEVENT
DTSTART;VALUE=DATE:20240928
DTEND;VALUE=DATE:20240930
DTSTAMP:20260423T215025
CREATED:20240905T195558Z
LAST-MODIFIED:20240905T195558Z
UID:65943-1727481600-1727654399@solidaridad.net
SUMMARY:Tortosa: Jornada Mundial del Migrante y Refugiado
DESCRIPTION:Jornada Mundial del Migrante y Refugiado que tendrá lugar los días 28 y 29 de septiembre en la Parroquia Mare de Déu dels Dolors
URL:https://solidaridad.net/evento/tortosa-jornada-mundial-del-migrante-y-refugiado/
CATEGORIES:Concentración,Vigilia
ATTACH;FMTTYPE=image/jpeg:https://solidaridad.net/wp-content/uploads/2024/09/2B37D111-56C6-46A9-9132-C6D654690DB8.jpeg
END:VEVENT
BEGIN:VEVENT
DTSTART;TZID=Europe/Madrid:20240929T173000
DTEND;TZID=Europe/Madrid:20240929T183000
DTSTAMP:20260423T215025
CREATED:20240905T093222Z
LAST-MODIFIED:20240905T104954Z
UID:65932-1727631000-1727634600@solidaridad.net
SUMMARY:Madrid: Concentración Día del Migrante y Refugiado
DESCRIPTION:En solidaridad con los inmigrantes empobrecidos\, denunciando las causas del hambre\, del desempleo\, de la guerra y la esclavitud.
URL:https://solidaridad.net/evento/madrid-concentracion-dia-del-migrante-y-refugiado/
LOCATION:plaza dos de mayo\, Plaza Dos de Mayo-Malasaña
CATEGORIES:Concentración
ATTACH;FMTTYPE=image/png:https://solidaridad.net/wp-content/uploads/2024/09/concentracion-y-lectura-de-comunicado-1.png
END:VEVENT
END:VCALENDAR