BEGIN:VCALENDAR
VERSION:2.0
PRODID:-//Solidaridad.net - ECPv6.15.17.1//NONSGML v1.0//EN
CALSCALE:GREGORIAN
METHOD:PUBLISH
X-ORIGINAL-URL:https://solidaridad.net
X-WR-CALDESC:Eventos para Solidaridad.net
REFRESH-INTERVAL;VALUE=DURATION:PT1H
X-Robots-Tag:noindex
X-PUBLISHED-TTL:PT1H
BEGIN:VTIMEZONE
TZID:Europe/Madrid
BEGIN:DAYLIGHT
TZOFFSETFROM:+0100
TZOFFSETTO:+0200
TZNAME:CEST
DTSTART:20230326T010000
END:DAYLIGHT
BEGIN:STANDARD
TZOFFSETFROM:+0200
TZOFFSETTO:+0100
TZNAME:CET
DTSTART:20231029T010000
END:STANDARD
BEGIN:DAYLIGHT
TZOFFSETFROM:+0100
TZOFFSETTO:+0200
TZNAME:CEST
DTSTART:20240331T010000
END:DAYLIGHT
BEGIN:STANDARD
TZOFFSETFROM:+0200
TZOFFSETTO:+0100
TZNAME:CET
DTSTART:20241027T010000
END:STANDARD
BEGIN:DAYLIGHT
TZOFFSETFROM:+0100
TZOFFSETTO:+0200
TZNAME:CEST
DTSTART:20250330T010000
END:DAYLIGHT
BEGIN:STANDARD
TZOFFSETFROM:+0200
TZOFFSETTO:+0100
TZNAME:CET
DTSTART:20251026T010000
END:STANDARD
END:VTIMEZONE
BEGIN:VEVENT
DTSTART;TZID=Europe/Madrid:20241201T131500
DTEND;TZID=Europe/Madrid:20241201T140000
DTSTAMP:20260423T172758
CREATED:20241119T104338Z
LAST-MODIFIED:20241125T175054Z
UID:66195-1733058900-1733061600@solidaridad.net
SUMMARY:Villafranca de los Barros: Concentración Solidaria
DESCRIPTION:Concentración Solidaria el domingo 1 de diciembre a las 13:15h en la Plaza de España de Villafranca de los Barros (Badajoz).
URL:https://solidaridad.net/evento/villafranca-de-los-barros-concentracion-solidaria-2/
CATEGORIES:Concentración
ATTACH;FMTTYPE=image/jpeg:https://solidaridad.net/wp-content/uploads/2024/11/WhatsApp-Image-2024-11-25-at-18.10.52.jpeg
END:VEVENT
END:VCALENDAR