BEGIN:VCALENDAR
VERSION:2.0
PRODID:-//Solidaridad.net - ECPv6.15.17.1//NONSGML v1.0//EN
CALSCALE:GREGORIAN
METHOD:PUBLISH
X-ORIGINAL-URL:https://solidaridad.net
X-WR-CALDESC:Eventos para Solidaridad.net
REFRESH-INTERVAL;VALUE=DURATION:PT1H
X-Robots-Tag:noindex
X-PUBLISHED-TTL:PT1H
BEGIN:VTIMEZONE
TZID:Europe/Madrid
BEGIN:DAYLIGHT
TZOFFSETFROM:+0100
TZOFFSETTO:+0200
TZNAME:CEST
DTSTART:20230326T010000
END:DAYLIGHT
BEGIN:STANDARD
TZOFFSETFROM:+0200
TZOFFSETTO:+0100
TZNAME:CET
DTSTART:20231029T010000
END:STANDARD
BEGIN:DAYLIGHT
TZOFFSETFROM:+0100
TZOFFSETTO:+0200
TZNAME:CEST
DTSTART:20240331T010000
END:DAYLIGHT
BEGIN:STANDARD
TZOFFSETFROM:+0200
TZOFFSETTO:+0100
TZNAME:CET
DTSTART:20241027T010000
END:STANDARD
BEGIN:DAYLIGHT
TZOFFSETFROM:+0100
TZOFFSETTO:+0200
TZNAME:CEST
DTSTART:20250330T010000
END:DAYLIGHT
BEGIN:STANDARD
TZOFFSETFROM:+0200
TZOFFSETTO:+0100
TZNAME:CET
DTSTART:20251026T010000
END:STANDARD
END:VTIMEZONE
BEGIN:VEVENT
DTSTART;TZID=Europe/Madrid:20241222T130000
DTEND;TZID=Europe/Madrid:20241222T140000
DTSTAMP:20260423T172757
CREATED:20241201T155327Z
LAST-MODIFIED:20241207T183717Z
UID:66282-1734872400-1734876000@solidaridad.net
SUMMARY:Alcalá de Henares: Concentración Solidaria
DESCRIPTION:Concentración Solidaria el 22 de diciembre a las 13.00 h en C/Mayor (junto al Hospitalillo)\, Alcalá de Henares.
URL:https://solidaridad.net/evento/alcala-de-henares-concentracion-solidaria-3/
CATEGORIES:Concentración
ATTACH;FMTTYPE=image/jpeg:https://solidaridad.net/wp-content/uploads/2024/12/WhatsApp-Image-2024-12-07-at-11.19.27.jpeg
END:VEVENT
END:VCALENDAR