BEGIN:VCALENDAR
VERSION:2.0
PRODID:-//Solidaridad.net - ECPv6.15.17.1//NONSGML v1.0//EN
CALSCALE:GREGORIAN
METHOD:PUBLISH
X-ORIGINAL-URL:https://solidaridad.net
X-WR-CALDESC:Eventos para Solidaridad.net
REFRESH-INTERVAL;VALUE=DURATION:PT1H
X-Robots-Tag:noindex
X-PUBLISHED-TTL:PT1H
BEGIN:VTIMEZONE
TZID:America/Lima
BEGIN:STANDARD
TZOFFSETFROM:-0500
TZOFFSETTO:-0500
TZNAME:-05
DTSTART:20240101T000000
END:STANDARD
END:VTIMEZONE
BEGIN:VTIMEZONE
TZID:Europe/Madrid
BEGIN:DAYLIGHT
TZOFFSETFROM:+0100
TZOFFSETTO:+0200
TZNAME:CEST
DTSTART:20240331T010000
END:DAYLIGHT
BEGIN:STANDARD
TZOFFSETFROM:+0200
TZOFFSETTO:+0100
TZNAME:CET
DTSTART:20241027T010000
END:STANDARD
BEGIN:DAYLIGHT
TZOFFSETFROM:+0100
TZOFFSETTO:+0200
TZNAME:CEST
DTSTART:20250330T010000
END:DAYLIGHT
BEGIN:STANDARD
TZOFFSETFROM:+0200
TZOFFSETTO:+0100
TZNAME:CET
DTSTART:20251026T010000
END:STANDARD
BEGIN:DAYLIGHT
TZOFFSETFROM:+0100
TZOFFSETTO:+0200
TZNAME:CEST
DTSTART:20260329T010000
END:DAYLIGHT
BEGIN:STANDARD
TZOFFSETFROM:+0200
TZOFFSETTO:+0100
TZNAME:CET
DTSTART:20261025T010000
END:STANDARD
END:VTIMEZONE
BEGIN:VEVENT
DTSTART;TZID=America/Lima:20251221T110000
DTEND;TZID=America/Lima:20251221T120000
DTSTAMP:20260423T002034
CREATED:20251212T210724Z
LAST-MODIFIED:20251212T210724Z
UID:68136-1766314800-1766318400@solidaridad.net
SUMMARY:Lima: Concentración Solidaria
DESCRIPTION:Concentración Solidaria contra las causas del hambre\, el desempleo\, la esclavitud infantil y todo atentado contra la vida humana. \nSabado 20.\n– Eucaristía por la Justicia a las 6.00 pm en la Parroquia Cristo Resucitado \nDomingo 21.\n– 8.30 am. Santa misa en la Parroquia Cristo Resucitado \n– 11.00 am. Concentración Solidaria en Losa deportiva del grupo 13\, sector II\, Villa El Salvador.
URL:https://solidaridad.net/evento/lima-concentracion-solidaria/
CATEGORIES:Concentración,Curso
ATTACH;FMTTYPE=image/jpeg:https://solidaridad.net/wp-content/uploads/2025/12/4A74FA48-2898-4A20-B8CE-4A239FA6C40F.jpeg
END:VEVENT
BEGIN:VEVENT
DTSTART;TZID=Europe/Madrid:20251221T130000
DTEND;TZID=Europe/Madrid:20251221T140000
DTSTAMP:20260423T002034
CREATED:20251122T095609Z
LAST-MODIFIED:20251122T095609Z
UID:68038-1766322000-1766325600@solidaridad.net
SUMMARY:Alcalá de Henares: Concentración Solidaria
DESCRIPTION:Concentración solidaria el domingo\, 21 de diciembre a las 13.00h en la calle Mayor frente al Hospitalillo\, Alcalá de Henares.
URL:https://solidaridad.net/evento/alcala-de-henares-concentracion-solidaria-4/
CATEGORIES:Concentración
ATTACH;FMTTYPE=image/jpeg:https://solidaridad.net/wp-content/uploads/2025/11/3218097C-FE3D-470A-A215-2E716CFC9335.jpeg
END:VEVENT
END:VCALENDAR