BEGIN:VCALENDAR
VERSION:2.0
PRODID:-//Solidaridad.net - ECPv6.15.17.1//NONSGML v1.0//EN
CALSCALE:GREGORIAN
METHOD:PUBLISH
X-ORIGINAL-URL:https://solidaridad.net
X-WR-CALDESC:Eventos para Solidaridad.net
REFRESH-INTERVAL;VALUE=DURATION:PT1H
X-Robots-Tag:noindex
X-PUBLISHED-TTL:PT1H
BEGIN:VTIMEZONE
TZID:Europe/Madrid
BEGIN:DAYLIGHT
TZOFFSETFROM:+0100
TZOFFSETTO:+0200
TZNAME:CEST
DTSTART:20240331T010000
END:DAYLIGHT
BEGIN:STANDARD
TZOFFSETFROM:+0200
TZOFFSETTO:+0100
TZNAME:CET
DTSTART:20241027T010000
END:STANDARD
BEGIN:DAYLIGHT
TZOFFSETFROM:+0100
TZOFFSETTO:+0200
TZNAME:CEST
DTSTART:20250330T010000
END:DAYLIGHT
BEGIN:STANDARD
TZOFFSETFROM:+0200
TZOFFSETTO:+0100
TZNAME:CET
DTSTART:20251026T010000
END:STANDARD
BEGIN:DAYLIGHT
TZOFFSETFROM:+0100
TZOFFSETTO:+0200
TZNAME:CEST
DTSTART:20260329T010000
END:DAYLIGHT
BEGIN:STANDARD
TZOFFSETFROM:+0200
TZOFFSETTO:+0100
TZNAME:CET
DTSTART:20261025T010000
END:STANDARD
END:VTIMEZONE
BEGIN:VEVENT
DTSTART;VALUE=DATE:20250801
DTEND;VALUE=DATE:20250815
DTSTAMP:20260422T044748
CREATED:20250212T121418Z
LAST-MODIFIED:20250519T154613Z
UID:66612-1754006400-1755215999@solidaridad.net
SUMMARY:Pamplona: Aula Malagón-Rovirosa 2025
DESCRIPTION:Movimiento Cultural Cristiano \nAULA MALAGÓN-ROVIROSA\nAgosto 2025 \nSeminario Diocesano Conciliar de San Miguel (Pamplona) \n\nEjercicios espirituales. Del 1 de agosto a las 10 h al 6 de agosto a las 14 h.\n\nLa Espiritualidad Trinitaria de Guillermo Rovirosa. \nCarlos Ruiz. Sacerdote\, doctor en Teología y misionero. \n\nCurso Encuentro Norte- Sur. Del 7 de agosto a las 10 h al 10 de agosto a las 14 h. PROGRAMA COMPLETO DEL CURSO. «Respuestas de Esperanza a este mundo en guerra»\n\nJornada de difusión de cultura solidaria. 9 de agosto de 11 a 14 h. \nResponsables: Carmelo Mármol. Trabajador social. y Rainer Uphoff. Periodista y empresario. Militantes del Movimiento Cultural Cristiano \n\nJornada de reflexión interna. 11 de agosto a las 10 h.\n\nPosicionamiento político del MCC ante la crisis de la democracia. \n\nAsamblea del Movimiento Cultural Cristiano. Del 12 de agosto a las 10 h al 14 de agosto a las 20 h.\n\n«La autogestión como forma de cultura frente al totalitarismo» \n15 de agosto. Día del Militante. Jubileo de la Esperanza. \nINSCRIPCIÓN A LOS CURSOS DEL AULA MALAGÓN-ROVIROSA \n\n	Aviso: Se requiere JavaScript para este contenido.\n\n\n    \n\n\n        \n        \n        \n 
URL:https://solidaridad.net/evento/pamplona-aula-malagon-rovirosa-2025/
CATEGORIES:Curso
ATTACH;FMTTYPE=image/jpeg:https://solidaridad.net/wp-content/uploads/2025/02/RECORTE-AULA-2025.jpg
END:VEVENT
END:VCALENDAR