BEGIN:VCALENDAR
VERSION:2.0
PRODID:-//Solidaridad.net - ECPv6.15.17.1//NONSGML v1.0//EN
CALSCALE:GREGORIAN
METHOD:PUBLISH
X-WR-CALNAME:Solidaridad.net
X-ORIGINAL-URL:https://solidaridad.net
X-WR-CALDESC:Eventos para Solidaridad.net
REFRESH-INTERVAL;VALUE=DURATION:PT1H
X-Robots-Tag:noindex
X-PUBLISHED-TTL:PT1H
BEGIN:VTIMEZONE
TZID:Europe/Helsinki
BEGIN:DAYLIGHT
TZOFFSETFROM:+0200
TZOFFSETTO:+0300
TZNAME:EEST
DTSTART:20150329T010000
END:DAYLIGHT
BEGIN:STANDARD
TZOFFSETFROM:+0300
TZOFFSETTO:+0200
TZNAME:EET
DTSTART:20151025T010000
END:STANDARD
BEGIN:DAYLIGHT
TZOFFSETFROM:+0200
TZOFFSETTO:+0300
TZNAME:EEST
DTSTART:20160327T010000
END:DAYLIGHT
BEGIN:STANDARD
TZOFFSETFROM:+0300
TZOFFSETTO:+0200
TZNAME:EET
DTSTART:20161030T010000
END:STANDARD
BEGIN:DAYLIGHT
TZOFFSETFROM:+0200
TZOFFSETTO:+0300
TZNAME:EEST
DTSTART:20170326T010000
END:DAYLIGHT
BEGIN:STANDARD
TZOFFSETFROM:+0300
TZOFFSETTO:+0200
TZNAME:EET
DTSTART:20171029T010000
END:STANDARD
END:VTIMEZONE
BEGIN:VEVENT
DTSTART;TZID=Europe/Helsinki:20161210T190000
DTEND;TZID=Europe/Helsinki:20161210T210000
DTSTAMP:20260423T223908
CREATED:20161204T124216Z
LAST-MODIFIED:20161204T125345Z
UID:21740-1481396400-1481403600@solidaridad.net
SUMMARY:Móra d'Ebre (Tarragona): eucaristía y concentración
DESCRIPTION:Eucaristía por la Justicia en las relaciones Norte- Sur y concentración contra las causas del hambre\, paro y esclavitud infantil
URL:https://solidaridad.net/evento/mora-debre-tarragona-eucaristia-y-concentracion/
CATEGORIES:Concentración,Eucaristía
ATTACH;FMTTYPE=image/jpeg:https://solidaridad.net/wp-content/uploads/2015/11/Manifiesto-logo.jpg
END:VEVENT
END:VCALENDAR