BEGIN:VCALENDAR
VERSION:2.0
PRODID:-//Solidaridad.net - ECPv6.15.17.1//NONSGML v1.0//EN
CALSCALE:GREGORIAN
METHOD:PUBLISH
X-WR-CALNAME:Solidaridad.net
X-ORIGINAL-URL:https://solidaridad.net
X-WR-CALDESC:Eventos para Solidaridad.net
REFRESH-INTERVAL;VALUE=DURATION:PT1H
X-Robots-Tag:noindex
X-PUBLISHED-TTL:PT1H
BEGIN:VTIMEZONE
TZID:Europe/Madrid
BEGIN:DAYLIGHT
TZOFFSETFROM:+0100
TZOFFSETTO:+0200
TZNAME:CEST
DTSTART:20240331T010000
END:DAYLIGHT
BEGIN:STANDARD
TZOFFSETFROM:+0200
TZOFFSETTO:+0100
TZNAME:CET
DTSTART:20241027T010000
END:STANDARD
BEGIN:DAYLIGHT
TZOFFSETFROM:+0100
TZOFFSETTO:+0200
TZNAME:CEST
DTSTART:20250330T010000
END:DAYLIGHT
BEGIN:STANDARD
TZOFFSETFROM:+0200
TZOFFSETTO:+0100
TZNAME:CET
DTSTART:20251026T010000
END:STANDARD
BEGIN:DAYLIGHT
TZOFFSETFROM:+0100
TZOFFSETTO:+0200
TZNAME:CEST
DTSTART:20260329T010000
END:DAYLIGHT
BEGIN:STANDARD
TZOFFSETFROM:+0200
TZOFFSETTO:+0100
TZNAME:CET
DTSTART:20261025T010000
END:STANDARD
END:VTIMEZONE
BEGIN:VEVENT
DTSTART;VALUE=DATE:20251003
DTEND;VALUE=DATE:20251006
DTSTAMP:20260422T191839
CREATED:20250922T170935Z
LAST-MODIFIED:20250922T170935Z
UID:67778-1759449600-1759708799@solidaridad.net
SUMMARY:Tortosa: Migrantes\, misioneros de esperanza
DESCRIPTION:Migrants\, misioners  d’esperança \nMigrantes\, misioneros de esperanza \nJornada mundial del Migrant i del refugiat \nTortosa\, del 3 al 5 d’Octubre \nDivendres 3 d’Octubre: Misa i Vigilia d’adoració. 19.30 a la Parroquia Mare de Déu dels Dolors \nDissabte 4 d’Octubre: Vigilia d’adoració. 22h a la Parroquia Mare de Déu dels Àngels \nDiumenge 5 d’Octubre: Eucaristia. 12.15h Parroquia de Sant Blai \n  \n 
URL:https://solidaridad.net/evento/tortosa-migrantes-misioneros-de-esperanza/
CATEGORIES:Jornada
ATTACH;FMTTYPE=image/jpeg:https://solidaridad.net/wp-content/uploads/2025/09/23BE4E25-2C0D-4616-AA55-EAD52F831DAD.jpeg
END:VEVENT
BEGIN:VEVENT
DTSTART;VALUE=DATE:20251004
DTEND;VALUE=DATE:20251006
DTSTAMP:20260422T191839
CREATED:20251002T194658Z
LAST-MODIFIED:20251002T194658Z
UID:67831-1759536000-1759708799@solidaridad.net
SUMMARY:Perú: Migrantes\, misioneros de esperanza
DESCRIPTION:111ª Jornada Mundial del Migrante y Refugiado  \n– Sábado 4 de octubre a las 7.30pm: Videoforum. “Entre la rabia y la ternura:acompañando a las víctimas de la guerra” \n– Domingo 5 de octubre Santa Misa a las 8.30am y a las 6.00pm \nLugar: Parroquia Cristo Resucitado. Villa El Salvador
URL:https://solidaridad.net/evento/peru-migrantes-misioneros-de-esperanza/
CATEGORIES:Jornada
ATTACH;FMTTYPE=image/jpeg:https://solidaridad.net/wp-content/uploads/2025/10/7BA1447B-63B1-4CB1-9325-1BFDA3219CC1.jpeg
END:VEVENT
END:VCALENDAR