BEGIN:VCALENDAR
VERSION:2.0
PRODID:-//Solidaridad.net - ECPv6.15.17.1//NONSGML v1.0//EN
CALSCALE:GREGORIAN
METHOD:PUBLISH
X-ORIGINAL-URL:https://solidaridad.net
X-WR-CALDESC:Eventos para Solidaridad.net
REFRESH-INTERVAL;VALUE=DURATION:PT1H
X-Robots-Tag:noindex
X-PUBLISHED-TTL:PT1H
BEGIN:VTIMEZONE
TZID:Europe/Madrid
BEGIN:DAYLIGHT
TZOFFSETFROM:+0100
TZOFFSETTO:+0200
TZNAME:CEST
DTSTART:20250330T010000
END:DAYLIGHT
BEGIN:STANDARD
TZOFFSETFROM:+0200
TZOFFSETTO:+0100
TZNAME:CET
DTSTART:20251026T010000
END:STANDARD
BEGIN:DAYLIGHT
TZOFFSETFROM:+0100
TZOFFSETTO:+0200
TZNAME:CEST
DTSTART:20260329T010000
END:DAYLIGHT
BEGIN:STANDARD
TZOFFSETFROM:+0200
TZOFFSETTO:+0100
TZNAME:CET
DTSTART:20261025T010000
END:STANDARD
BEGIN:DAYLIGHT
TZOFFSETFROM:+0100
TZOFFSETTO:+0200
TZNAME:CEST
DTSTART:20270328T010000
END:DAYLIGHT
BEGIN:STANDARD
TZOFFSETFROM:+0200
TZOFFSETTO:+0100
TZNAME:CET
DTSTART:20271031T010000
END:STANDARD
END:VTIMEZONE
BEGIN:VTIMEZONE
TZID:America/Lima
BEGIN:STANDARD
TZOFFSETFROM:-0500
TZOFFSETTO:-0500
TZNAME:-05
DTSTART:20250101T000000
END:STANDARD
END:VTIMEZONE
BEGIN:VEVENT
DTSTART;VALUE=DATE:20260221
DTEND;VALUE=DATE:20260222
DTSTAMP:20260422T170810
CREATED:20260220T084128Z
LAST-MODIFIED:20260220T084129Z
UID:68449-1771632000-1771718399@solidaridad.net
SUMMARY:Venezuela: Homenaje a Julián Gómez del Castillo y Guillermo Rovirosa
DESCRIPTION:Homenaje a Julián Gómez del Castillo y Guillermo Rovirosa. Jornada de Doctrina Social de la Iglesia \nEl Sábado 21 de febrero en la Parroquia San Buenaventura (El Roble)
URL:https://solidaridad.net/evento/venezuela-homenaje-a-julian-gomez-del-castillo-y-guillermo-rovirosa/
CATEGORIES:Jornada
ATTACH;FMTTYPE=image/jpeg:https://solidaridad.net/wp-content/uploads/2026/02/IMG-20260218-WA0002.jpg
END:VEVENT
BEGIN:VEVENT
DTSTART;TZID=America/Lima:20260221T193000
DTEND;TZID=America/Lima:20260221T203000
DTSTAMP:20260422T170810
CREATED:20260215T214617Z
LAST-MODIFIED:20260215T214619Z
UID:68420-1771702200-1771705800@solidaridad.net
SUMMARY:Lima: Testigos de esperanza para el siglo XXI
DESCRIPTION:Homenaje a Guillermo Rovirosa y Julián Gómez del Castillo\, fundadores del Movimiento Cultural Cristiano\, con el conservatorio Testigos de Esperanza para el siglo XXI. \nTendrá lugar el sábado 21 de febrero a las 7.30 pm en la Casa de Cultura y Solidaridad del Movimiento Cultura Cristiano en Villa El Salvador (S2\, G13\, frente a la Parroquia Cristo Resucitado).
URL:https://solidaridad.net/evento/lima-testigos-de-esperanza-para-el-siglo-xxi/
CATEGORIES:Jornada
ATTACH;FMTTYPE=image/jpeg:https://solidaridad.net/wp-content/uploads/2026/02/WhatsApp-Image-2026-02-15-at-03.01.39.jpeg
END:VEVENT
END:VCALENDAR