BEGIN:VCALENDAR
VERSION:2.0
PRODID:-//Solidaridad.net - ECPv6.15.17.1//NONSGML v1.0//EN
CALSCALE:GREGORIAN
METHOD:PUBLISH
X-WR-CALNAME:Solidaridad.net
X-ORIGINAL-URL:https://solidaridad.net
X-WR-CALDESC:Eventos para Solidaridad.net
REFRESH-INTERVAL;VALUE=DURATION:PT1H
X-Robots-Tag:noindex
X-PUBLISHED-TTL:PT1H
BEGIN:VTIMEZONE
TZID:Europe/Helsinki
BEGIN:DAYLIGHT
TZOFFSETFROM:+0200
TZOFFSETTO:+0300
TZNAME:EEST
DTSTART:20140330T010000
END:DAYLIGHT
BEGIN:STANDARD
TZOFFSETFROM:+0300
TZOFFSETTO:+0200
TZNAME:EET
DTSTART:20141026T010000
END:STANDARD
BEGIN:DAYLIGHT
TZOFFSETFROM:+0200
TZOFFSETTO:+0300
TZNAME:EEST
DTSTART:20150329T010000
END:DAYLIGHT
BEGIN:STANDARD
TZOFFSETFROM:+0300
TZOFFSETTO:+0200
TZNAME:EET
DTSTART:20151025T010000
END:STANDARD
BEGIN:DAYLIGHT
TZOFFSETFROM:+0200
TZOFFSETTO:+0300
TZNAME:EEST
DTSTART:20160327T010000
END:DAYLIGHT
BEGIN:STANDARD
TZOFFSETFROM:+0300
TZOFFSETTO:+0200
TZNAME:EET
DTSTART:20161030T010000
END:STANDARD
END:VTIMEZONE
BEGIN:VEVENT
DTSTART;TZID=Europe/Helsinki:20151205T183000
DTEND;TZID=Europe/Helsinki:20151205T200000
DTSTAMP:20260420T164514
CREATED:20151130T131707Z
LAST-MODIFIED:20151130T131707Z
UID:16000-1449340200-1449345600@solidaridad.net
SUMMARY:BADAJOZ: Marcha por la Justicia Norte-Sur
DESCRIPTION:BADAJOZ \nSÁBADO 5 de DICIEMBRE\, 18:30 H\, saliendo de Paseo de Huelva. \nLee aquí el Manifiesto por la Justicia en las relaciones Norte-Sur\, No más esclavos\, trabajo sobre Capital.
URL:https://solidaridad.net/evento/badajoz-marcha-por-la-justicia-norte-sur/
CATEGORIES:Marcha
END:VEVENT
BEGIN:VEVENT
DTSTART;TZID=Europe/Helsinki:20151206T183000
DTEND;TZID=Europe/Helsinki:20151206T200000
DTSTAMP:20260420T164514
CREATED:20151130T132802Z
LAST-MODIFIED:20151130T132802Z
UID:16005-1449426600-1449432000@solidaridad.net
SUMMARY:MALAGA: Marcha por la Justicia Norte-Sur
DESCRIPTION:DOMIGO 6 de DICIEMBRE\, 18:30 H\, saliendo de Pza Constitución. \nLee aquí el Manifiesto por la Justicia en las relaciones Norte-Sur\, No más esclavos\, trabajo sobre Capital.
URL:https://solidaridad.net/evento/malaga-marcha-por-la-justicia-norte-sur/
CATEGORIES:Marcha
END:VEVENT
BEGIN:VEVENT
DTSTART;TZID=Europe/Helsinki:20151209T191500
DTEND;TZID=Europe/Helsinki:20151212T203000
DTSTAMP:20260420T164514
CREATED:20151130T133240Z
LAST-MODIFIED:20151130T141910Z
UID:16006-1449688500-1449952200@solidaridad.net
SUMMARY:SANTANDER: Vigilia y Marcha por la Justicia Norte-Sur
DESCRIPTION:MIERCOLES 9 de DICIEMBRE\, 19:15 H\, VIGILIA en la Capilla de la Cocina Económica \nSABADO 12 de DICIEMBRE\, 19:30 H\, CONCENTRACIÓN en la Pza del Ayuntamiento \nLee aquí el Manifiesto por la Justicia en las relaciones Norte-Sur\, No más esclavos\, trabajo sobre Capital.
URL:https://solidaridad.net/evento/santander-vigilia-y-marcha-por-la-justicia-norte-sur/
CATEGORIES:Marcha,Vigilia
END:VEVENT
BEGIN:VEVENT
DTSTART;TZID=Europe/Helsinki:20151211T190000
DTEND;TZID=Europe/Helsinki:20151211T203000
DTSTAMP:20260420T164514
CREATED:20151130T133753Z
LAST-MODIFIED:20151210T221215Z
UID:16009-1449860400-1449865800@solidaridad.net
SUMMARY:ALMERIA: Marcha por la Justicia Norte-Sur
DESCRIPTION:ALMERIA: Marcha por la Justicia Norte-Sur \nVIERNES 11 de DICIEMBRE\, 18:30 H\, saliendo desde Puerta Purchena. \nEucaristía (Parroquia San Sebastián) a las 19:30hs.  \nLee aquí el Manifiesto por la Justicia en las relaciones Norte-Sur\, No más esclavos\, trabajo sobre Capital.
URL:https://solidaridad.net/evento/almeria-marcha-por-la-justicia-norte-sur/
CATEGORIES:Marcha
END:VEVENT
BEGIN:VEVENT
DTSTART;TZID=Europe/Helsinki:20151212T120000
DTEND;TZID=Europe/Helsinki:20151212T140000
DTSTAMP:20260420T164514
CREATED:20151130T134041Z
LAST-MODIFIED:20151130T134041Z
UID:16010-1449921600-1449928800@solidaridad.net
SUMMARY:JAEN: Marcha por la Justicia Norte-Sur
DESCRIPTION:SÁBADO 12 de DICIEMBRE\, 12:00 H\, saliendo de Pza Constitución \nLee aquí el Manifiesto por la Justicia en las relaciones Norte-Sur\, No más esclavos\, trabajo sobre Capital.
URL:https://solidaridad.net/evento/jaen-marcha-por-la-justicia-norte-sur/
CATEGORIES:Marcha
END:VEVENT
BEGIN:VEVENT
DTSTART;TZID=Europe/Helsinki:20151212T190000
DTEND;TZID=Europe/Helsinki:20151212T203000
DTSTAMP:20260420T164514
CREATED:20151130T134446Z
LAST-MODIFIED:20151130T134446Z
UID:16013-1449946800-1449952200@solidaridad.net
SUMMARY:ÚBEDA: Marcha por la Justicia Norte-Sur
DESCRIPTION:SÁBADO 12 de DICIEMBRE\, 19:00 H\, saliendo de Pza Andalucía. \nLee aquí el Manifiesto por la Justicia en las relaciones Norte-Sur\, No más esclavos\, trabajo sobre Capital.
URL:https://solidaridad.net/evento/ubeda-marcha-por-la-justicia-norte-sur/
CATEGORIES:Marcha
END:VEVENT
BEGIN:VEVENT
DTSTART;TZID=Europe/Helsinki:20151212T190000
DTEND;TZID=Europe/Helsinki:20151212T203000
DTSTAMP:20260420T164514
CREATED:20151130T134608Z
LAST-MODIFIED:20151130T134608Z
UID:16014-1449946800-1449952200@solidaridad.net
SUMMARY:MURCIA: Marcha por la Justicia Norte-Sur
DESCRIPTION:SÁBADO 12 de DICIEMBRE\, 19:00 H\, saliendo de Pza Sto Domingo. \nLee aquí el Manifiesto por la Justicia en las relaciones Norte-Sur\, No más esclavos\, trabajo sobre Capital.
URL:https://solidaridad.net/evento/murcia-marcha-por-la-justicia-norte-sur/
CATEGORIES:Marcha
END:VEVENT
BEGIN:VEVENT
DTSTART;TZID=Europe/Helsinki:20151212T190000
DTEND;TZID=Europe/Helsinki:20151212T203000
DTSTAMP:20260420T164514
CREATED:20151130T134812Z
LAST-MODIFIED:20151130T134812Z
UID:16015-1449946800-1449952200@solidaridad.net
SUMMARY:BARCELONA: Marcha por la Justicia Norte-Sur
DESCRIPTION:SÁBADO 12 de DICIEMBRE\, 19:00 H\, saliendo de Pg. Fabra y Puig esquina Avda. Meridiana (Estació de Sant Arenal) hasta Pza. de las Madres de Mayo (Nou Barris) \nLee aquí el Manifiesto por la Justicia en las relaciones Norte-Sur\, No más esclavos\, trabajo sobre Capital.
URL:https://solidaridad.net/evento/barcelona-marcha-por-la-justicia-norte-sur/
CATEGORIES:Marcha
END:VEVENT
BEGIN:VEVENT
DTSTART;TZID=Europe/Helsinki:20151212T190000
DTEND;TZID=Europe/Helsinki:20151212T203000
DTSTAMP:20260420T164514
CREATED:20151130T134955Z
LAST-MODIFIED:20151210T220316Z
UID:16016-1449946800-1449952200@solidaridad.net
SUMMARY:ALCALÁ de HENARES: Marcha por la Justicia Norte-Sur
DESCRIPTION:SÁBADO 12 de DICIEMBRE\, 19:00 H\, desde Calle Mayor altura (Santos Niños) recorrido por Calle Mayor hasta Plaza del Palacio (donde habrá un puesto informativo)\n2 – Puestos informativos desde las 16 horas\n* Calle Mayor altura plaza Cervantes\n*Calle Mayor esquina Santos Niños \nLee aquí el Manifiesto por la Justicia en las relaciones Norte-Sur\, No más esclavos\, trabajo sobre Capital.
URL:https://solidaridad.net/evento/alcala-de-henares-marcha-por-la-justicia-norte-sur/
CATEGORIES:Marcha
END:VEVENT
BEGIN:VEVENT
DTSTART;TZID=Europe/Helsinki:20151212T190000
DTEND;TZID=Europe/Helsinki:20151212T210000
DTSTAMP:20260420T164514
CREATED:20151202T120947Z
LAST-MODIFIED:20151205T104133Z
UID:16088-1449946800-1449954000@solidaridad.net
SUMMARY:CORDOBA:  Marcha por la Justicia Norte-Sur
DESCRIPTION:CORDOBA: Marcha por la Justicia Norte-Sur \nSABADO 12 de DICIEMBRE\, a las 19:00 h desde el Bulevar Gran Capitán (frente a la iglesia de S. Nicolás) \nLee aquí el Manifiesto por la Justicia en las relaciones Norte-Sur\, No más esclavos\, trabajo sobre Capital.
URL:https://solidaridad.net/evento/cordoba-marcha-por-la-justicia-norte-sur/
CATEGORIES:Marcha
END:VEVENT
BEGIN:VEVENT
DTSTART;TZID=Europe/Helsinki:20151212T193000
DTEND;TZID=Europe/Helsinki:20151212T210000
DTSTAMP:20260420T164514
CREATED:20151130T090609Z
LAST-MODIFIED:20151130T091253Z
UID:15970-1449948600-1449954000@solidaridad.net
SUMMARY:VALLADOLID: Marcha por la Justicia Norte-Sur
DESCRIPTION:VALLADOLID \nSÁBADO 12 de DICIEMBRE\, 19:30 H\, saliendo de Pza Zorrila. \nLee aquí el Manifiesto por la Justicia en las relaciones Norte-Sur\, No más esclavos\, trabajo sobre Capital.
URL:https://solidaridad.net/evento/valladolid-marcha-por-la-justicia-norte-sur/
CATEGORIES:Marcha
END:VEVENT
BEGIN:VEVENT
DTSTART;TZID=Europe/Helsinki:20151213T100000
DTEND;TZID=Europe/Helsinki:20151213T193000
DTSTAMP:20260420T164514
CREATED:20151130T135537Z
LAST-MODIFIED:20151130T135537Z
UID:16018-1450000800-1450035000@solidaridad.net
SUMMARY:MADRID: Eucaristía\, Jornada y Marcha por la Justicia Norte-Sur
DESCRIPTION:DOMINGO 13 de DICIEMBRE\, \na las 10:00 H\, Eucaristía en la Parroquia Nª Sra del Silencio \nDe 12 a 14 h\, Jornada Solidaria en Pza de Ópera \na las 18 h\, MARCHA saliendo de Pza España hasta Puerta del Sol \nLee aquí el Manifiesto por la Justicia en las relaciones Norte-Sur\, No más esclavos\, trabajo sobre Capital.
URL:https://solidaridad.net/evento/madrid-eucaristia-jornada-y-marcha-por-la-justicia-norte-sur/
CATEGORIES:Eucaristía,Jornada,Marcha
END:VEVENT
BEGIN:VEVENT
DTSTART;TZID=Europe/Helsinki:20151213T110000
DTEND;TZID=Europe/Helsinki:20151213T210000
DTSTAMP:20260420T164514
CREATED:20151203T220938Z
LAST-MODIFIED:20151203T220938Z
UID:16138-1450004400-1450040400@solidaridad.net
SUMMARY:SEVILLA: Jornada Solidaria y Marcha Norte-Sur
DESCRIPTION:DOMINGO 13 Dic\n \nDe 11 a 14 h y de 17 a 19.30h\, Jornada Solidaria en Pza Nueva \na las 19.30 h\, MARCHA SOLIDARIA salida desde Pza Nueva \nLee aquí el Manifiesto por la Justicia en las relaciones Norte-Sur\, No más esclavos\, trabajo sobre Capital.
URL:https://solidaridad.net/evento/sevilla-jornada-solidaria-y-marcha-norte-sur/
CATEGORIES:Marcha
END:VEVENT
BEGIN:VEVENT
DTSTART;TZID=Europe/Helsinki:20151213T190000
DTEND;TZID=Europe/Helsinki:20151213T203000
DTSTAMP:20260420T164514
CREATED:20151130T091726Z
LAST-MODIFIED:20151130T092626Z
UID:15974-1450033200-1450038600@solidaridad.net
SUMMARY:GRANADA: Marcha por la Justicia Norte-Sur
DESCRIPTION:GRANADA \n13\, DOMINGO\,  (19 H) XX MARCHA SOLIDARIA POR LAS CALLES DE GRANADA;\nSALIDA DESDE LA FUENTE DE LAS BATALLAS.\nPara difundir esta Marcha Solidaria contra las Causas del hambre\, paro y\nesclavitud infantil\, que este año lleva el lema: “No mas esclavos\,\ntrabajo sobre capital” te invitamos especialmente a difundir por las\nredes y físicamente el cartel que te adjuntamos. También te adjuntamos\nel manifiesto que se leerá al final de la Marcha.
URL:https://solidaridad.net/evento/granada/
CATEGORIES:Marcha
END:VEVENT
BEGIN:VEVENT
DTSTART;TZID=Europe/Helsinki:20151213T190000
DTEND;TZID=Europe/Helsinki:20151213T203000
DTSTAMP:20260420T164514
CREATED:20151203T221050Z
LAST-MODIFIED:20151203T221050Z
UID:16139-1450033200-1450038600@solidaridad.net
SUMMARY:BURGOS: Marcha Norte-Sur
DESCRIPTION:DOMINGO 13 Dic\n\na las 19.00 h\, MARCHA SOLIDARIA salida desde Pza Sto Domingo \nLee aquí el Manifiesto por la Justicia en las relaciones Norte-Sur\, No más esclavos\, trabajo sobre Capital.
URL:https://solidaridad.net/evento/burgos-marcha-norte-sur/
CATEGORIES:Marcha
END:VEVENT
BEGIN:VEVENT
DTSTART;TZID=Europe/Helsinki:20151223T193000
DTEND;TZID=Europe/Helsinki:20151223T210000
DTSTAMP:20260420T164514
CREATED:20151130T135842Z
LAST-MODIFIED:20151130T135842Z
UID:16019-1450899000-1450904400@solidaridad.net
SUMMARY:PAMPLONA: Marcha por la Justicia Norte-Sur
DESCRIPTION:MIÉRCOLES 23 de DICIEMBRE\, 19:30 H\, saliendo de Pza del Castillo. \nLee aquí el Manifiesto por la Justicia en las relaciones Norte-Sur\, No más esclavos\, trabajo sobre Capital.
URL:https://solidaridad.net/evento/pamplona-marcha-por-la-justicia-norte-sur/
CATEGORIES:Marcha
END:VEVENT
BEGIN:VEVENT
DTSTART;TZID=Europe/Helsinki:20151226T110000
DTEND;TZID=Europe/Helsinki:20151226T130000
DTSTAMP:20260420T164514
CREATED:20151130T140028Z
LAST-MODIFIED:20151221T185745Z
UID:16021-1451127600-1451134800@solidaridad.net
SUMMARY:SANTIAGO de COMPOSTELA: Marcha por la Justicia Norte-Sur
DESCRIPTION:SÁBADO 26 de DICIEMBRE\, 11:00 H\, saliendo de el Monte do Gozo hasta el Obradoiro. \nLee aquí el Manifiesto por la Justicia en las relaciones Norte-Sur\, No más esclavos\, trabajo sobre Capital. \n 
URL:https://solidaridad.net/evento/santiago-de-compostela-marcha-por-la-justicia-norte-sur/
CATEGORIES:Marcha
END:VEVENT
BEGIN:VEVENT
DTSTART;TZID=Europe/Helsinki:20151227T183000
DTEND;TZID=Europe/Helsinki:20151227T200000
DTSTAMP:20260420T164514
CREATED:20151202T121341Z
LAST-MODIFIED:20151202T121341Z
UID:16091-1451241000-1451246400@solidaridad.net
SUMMARY:HUELVA: Marcha por la Justicia Norte-Sur
DESCRIPTION:HUELVA: Marcha por la Justicia Norte-Sur \nDOMINGO 27 de DICIEMBRE\, a las 18:30 h desde Concepción (frente a la parroquia) \nLee aquí el Manifiesto por la Justicia en las relaciones Norte-Sur\, No más esclavos\, trabajo sobre Capital.
URL:https://solidaridad.net/evento/huelva-marcha-por-la-justicia-norte-sur/
CATEGORIES:Marcha
END:VEVENT
END:VCALENDAR