BEGIN:VCALENDAR
VERSION:2.0
PRODID:-//Solidaridad.net - ECPv6.15.17.1//NONSGML v1.0//EN
CALSCALE:GREGORIAN
METHOD:PUBLISH
X-WR-CALNAME:Solidaridad.net
X-ORIGINAL-URL:https://solidaridad.net
X-WR-CALDESC:Eventos para Solidaridad.net
REFRESH-INTERVAL;VALUE=DURATION:PT1H
X-Robots-Tag:noindex
X-PUBLISHED-TTL:PT1H
BEGIN:VTIMEZONE
TZID:Europe/Helsinki
BEGIN:DAYLIGHT
TZOFFSETFROM:+0200
TZOFFSETTO:+0300
TZNAME:EEST
DTSTART:20150329T010000
END:DAYLIGHT
BEGIN:STANDARD
TZOFFSETFROM:+0300
TZOFFSETTO:+0200
TZNAME:EET
DTSTART:20151025T010000
END:STANDARD
BEGIN:DAYLIGHT
TZOFFSETFROM:+0200
TZOFFSETTO:+0300
TZNAME:EEST
DTSTART:20160327T010000
END:DAYLIGHT
BEGIN:STANDARD
TZOFFSETFROM:+0300
TZOFFSETTO:+0200
TZNAME:EET
DTSTART:20161030T010000
END:STANDARD
BEGIN:DAYLIGHT
TZOFFSETFROM:+0200
TZOFFSETTO:+0300
TZNAME:EEST
DTSTART:20170326T010000
END:DAYLIGHT
BEGIN:STANDARD
TZOFFSETFROM:+0300
TZOFFSETTO:+0200
TZNAME:EET
DTSTART:20171029T010000
END:STANDARD
END:VTIMEZONE
BEGIN:VEVENT
DTSTART;TZID=Europe/Helsinki:20161211T183000
DTEND;TZID=Europe/Helsinki:20161211T200000
DTSTAMP:20260419T223123
CREATED:20161204T124736Z
LAST-MODIFIED:20161204T125258Z
UID:21748-1481481000-1481486400@solidaridad.net
SUMMARY:Huelva: marcha solidaria
DESCRIPTION:Marcha Solidaria contra las causas del hambre\, paro y esclavitud infantil
URL:https://solidaridad.net/evento/huelva-marcha-solidaria/
CATEGORIES:Marcha
ATTACH;FMTTYPE=image/jpeg:https://solidaridad.net/wp-content/uploads/2015/11/Manifiesto-logo.jpg
END:VEVENT
BEGIN:VEVENT
DTSTART;TZID=Europe/Helsinki:20161216T190000
DTEND;TZID=Europe/Helsinki:20161216T200000
DTSTAMP:20260419T223123
CREATED:20161204T130234Z
LAST-MODIFIED:20161204T130234Z
UID:21761-1481914800-1481918400@solidaridad.net
SUMMARY:Úbeda (Jaén): marcha solidaria
DESCRIPTION:XXVIII marcha solidaria contra las causas del hambre\, paro y esclavitud infantil
URL:https://solidaridad.net/evento/ubeda-jaen-marcha-solidaria/
CATEGORIES:Marcha
ATTACH;FMTTYPE=image/png:https://solidaridad.net/wp-content/uploads/2016/12/2016-Ubeda.png
END:VEVENT
BEGIN:VEVENT
DTSTART;TZID=Europe/Helsinki:20161217T100000
DTEND;TZID=Europe/Helsinki:20161217T120000
DTSTAMP:20260419T223123
CREATED:20161216T153944Z
LAST-MODIFIED:20161216T160633Z
UID:22225-1481968800-1481976000@solidaridad.net
SUMMARY:Ciudad Bolívar: marcha contra las causas del hambre
DESCRIPTION:
URL:https://solidaridad.net/evento/marcha-contra-las-causas-del-hambre/
CATEGORIES:Marcha
ATTACH;FMTTYPE=image/jpeg:https://solidaridad.net/wp-content/uploads/2015/11/Manifiesto-logo.jpg
END:VEVENT
BEGIN:VEVENT
DTSTART;TZID=Europe/Helsinki:20161217T180000
DTEND;TZID=Europe/Helsinki:20161217T193000
DTSTAMP:20260419T223123
CREATED:20161202T085632Z
LAST-MODIFIED:20161202T085632Z
UID:21698-1481997600-1482003000@solidaridad.net
SUMMARY:MADRID: Marcha Solidaria
DESCRIPTION:CAMPAÑA por la JUSTICIA en las RELACIONES NORTE-SUR \nCONTRA LAS CAUSAS DEL HAMBRE\, EL PARO Y LA ESCLAVITUD INFANTIL. No Matarás (Dios)
URL:https://solidaridad.net/evento/madrid-marcha-solidaria/
CATEGORIES:Marcha
END:VEVENT
BEGIN:VEVENT
DTSTART;TZID=Europe/Helsinki:20161217T180000
DTEND;TZID=Europe/Helsinki:20161217T193000
DTSTAMP:20260419T223123
CREATED:20161202T090027Z
LAST-MODIFIED:20161202T090027Z
UID:21704-1481997600-1482003000@solidaridad.net
SUMMARY:BURGOS: Marcha por la Justicia Norte-Sur
DESCRIPTION:CAMPAÑA por la JUSTICIA en las RELACIONES NORTE-SUR \nCONTRA LAS CAUSAS DEL HAMBRE\, EL PARO Y LA ESCLAVITUD INFANTIL. No Matarás (Dios)
URL:https://solidaridad.net/evento/burgos-marcha-por-la-justicia-norte-sur/
CATEGORIES:Marcha
END:VEVENT
BEGIN:VEVENT
DTSTART;TZID=Europe/Helsinki:20161217T190000
DTEND;TZID=Europe/Helsinki:20161217T200000
DTSTAMP:20260419T223123
CREATED:20161204T200206Z
LAST-MODIFIED:20161204T200206Z
UID:21772-1482001200-1482004800@solidaridad.net
SUMMARY:Córdoba: marcha solidaria
DESCRIPTION:Marcha Solidaria contra las causas del hambre\, paro y esclavitud infantil
URL:https://solidaridad.net/evento/cordoba-marcha-solidaria/
LOCATION:Parroquia de San Nicolás de la Villa\, Córdoba\, Bulevar del Gran Capitán\, Córdoba
CATEGORIES:Marcha
ATTACH;FMTTYPE=image/jpeg:https://solidaridad.net/wp-content/uploads/2015/11/Manifiesto-logo.jpg
END:VEVENT
BEGIN:VEVENT
DTSTART;TZID=Europe/Helsinki:20161218T183000
DTEND;TZID=Europe/Helsinki:20161218T200000
DTSTAMP:20260419T223123
CREATED:20161202T090242Z
LAST-MODIFIED:20161206T105551Z
UID:21710-1482085800-1482091200@solidaridad.net
SUMMARY:VALLADOLID: Marcha Solidaria
DESCRIPTION:CAMPAÑA por la JUSTICIA en las RELACIONES NORTE-SUR \nCONTRA LAS CAUSAS DEL HAMBRE\, EL PARO Y LA ESCLAVITUD INFANTIL. No Matarás (Dios) \nVALLADOLID: \nDomingo 18 Dic\, a las 18:30 h. \nSaliendo de Pza Zorrilla \n 
URL:https://solidaridad.net/evento/valladolid-marcha-solidaria/
CATEGORIES:Marcha
ATTACH;FMTTYPE=image/jpeg:https://solidaridad.net/wp-content/uploads/2016/12/2016_Marcha_VA.jpg
END:VEVENT
BEGIN:VEVENT
DTSTART;TZID=Europe/Helsinki:20161218T193000
DTEND;TZID=Europe/Helsinki:20161218T203000
DTSTAMP:20260419T223123
CREATED:20161204T201421Z
LAST-MODIFIED:20161213T122154Z
UID:21781-1482089400-1482093000@solidaridad.net
SUMMARY:Sevilla: marcha solidaria
DESCRIPTION:Marcha Solidaria contra las causas del hambre\, paro y esclavitud infantil
URL:https://solidaridad.net/evento/sevilla-marcha-solidaria/
LOCATION:Andén del Ayuntamiento\, Sevilla\, Plaza Nueva\, Sevilla
CATEGORIES:Marcha
ATTACH;FMTTYPE=image/jpeg:https://solidaridad.net/wp-content/uploads/2016/12/2016_Sevilla.jpg
END:VEVENT
BEGIN:VEVENT
DTSTART;TZID=Europe/Helsinki:20161230T180000
DTEND;TZID=Europe/Helsinki:20161230T210000
DTSTAMP:20260419T223123
CREATED:20161204T202054Z
LAST-MODIFIED:20161204T202054Z
UID:21787-1483120800-1483131600@solidaridad.net
SUMMARY:Las Palmas de Gran Canaria: actos por la justicia Norte-Sur
DESCRIPTION:Festival\, música\, poesía. Eucaristía por la justicia. Marcha solidaria contra las causas del hambre\, paro y esclavitud infantil
URL:https://solidaridad.net/evento/las-palmas-de-gran-canaria-actos-por-la-justicia-norte-sur/
CATEGORIES:Eucaristía,Jornada,Marcha
ATTACH;FMTTYPE=image/jpeg:https://solidaridad.net/wp-content/uploads/2016/12/Navidad-Canarias-2016.jpg
END:VEVENT
END:VCALENDAR