BEGIN:VCALENDAR
VERSION:2.0
PRODID:-//Solidaridad.net - ECPv6.15.17.1//NONSGML v1.0//EN
CALSCALE:GREGORIAN
METHOD:PUBLISH
X-WR-CALNAME:Solidaridad.net
X-ORIGINAL-URL:https://solidaridad.net
X-WR-CALDESC:Eventos para Solidaridad.net
REFRESH-INTERVAL;VALUE=DURATION:PT1H
X-Robots-Tag:noindex
X-PUBLISHED-TTL:PT1H
BEGIN:VTIMEZONE
TZID:Europe/Helsinki
BEGIN:DAYLIGHT
TZOFFSETFROM:+0200
TZOFFSETTO:+0300
TZNAME:EEST
DTSTART:20150329T010000
END:DAYLIGHT
BEGIN:STANDARD
TZOFFSETFROM:+0300
TZOFFSETTO:+0200
TZNAME:EET
DTSTART:20151025T010000
END:STANDARD
BEGIN:DAYLIGHT
TZOFFSETFROM:+0200
TZOFFSETTO:+0300
TZNAME:EEST
DTSTART:20160327T010000
END:DAYLIGHT
BEGIN:STANDARD
TZOFFSETFROM:+0300
TZOFFSETTO:+0200
TZNAME:EET
DTSTART:20161030T010000
END:STANDARD
BEGIN:DAYLIGHT
TZOFFSETFROM:+0200
TZOFFSETTO:+0300
TZNAME:EEST
DTSTART:20170326T010000
END:DAYLIGHT
BEGIN:STANDARD
TZOFFSETFROM:+0300
TZOFFSETTO:+0200
TZNAME:EET
DTSTART:20171029T010000
END:STANDARD
END:VTIMEZONE
BEGIN:VEVENT
DTSTART;TZID=Europe/Helsinki:20160401T180000
DTEND;TZID=Europe/Helsinki:20160416T210000
DTSTAMP:20260420T122435
CREATED:20160404T210433Z
LAST-MODIFIED:20160404T210433Z
UID:17920-1459533600-1460840400@solidaridad.net
SUMMARY:CANARIAS: 21 actos contra la esclavitud infantil. XXI Anniversario de Iqbal Masih
DESCRIPTION:
URL:https://solidaridad.net/evento/canarias-21-actos-contra-la-esclavitud-infantil-xxi-anniversario-de-iqbal-masih/
CATEGORIES:Charla-Tertulia,Cine/Teatro,Concentración,Eucaristía,Jornada,Marcha
END:VEVENT
BEGIN:VEVENT
DTSTART;TZID=Europe/Helsinki:20160409T193000
DTEND;TZID=Europe/Helsinki:20160409T210000
DTSTAMP:20260420T122435
CREATED:20160404T215316Z
LAST-MODIFIED:20170207T134408Z
UID:17927-1460230200-1460235600@solidaridad.net
SUMMARY:SEVILLA: Marcha contra la Esclavitud Infantil
DESCRIPTION: Día 9 de abril \nMarcha Solidaria contra la Esclavitud Infantil en Sevilla \nen el XXI aniversario de la muerte de Iqbal Masih\, niño pakistaní que fue esclavo en una fábrica de alfombras. Al ser liberado decidió luchar contra la esclavitud infantil. \nEl 16 de abril de 1995\, fue asesinado por las mafias tapiceras. \n   \nEl acto público constará de los siguientes momentos: \n·      Durante la mañana y la tarde habrá un puesto de publicaciones y exposición en Plaza Nueva. \n·      Por la tarde a las 19\,30h dará comienzo una Marcha silenciosa (desde Plaza Nueva)\, que constará de varias paradas con lecturas y representaciones que darán a conocer distintas situaciones de esclavitud que padece hoy  la infancia empobrecida y explotada. \nEl acto está organizado por Movimiento Cultural Cristiano y Camino Juvenil Solidario. \nPara más información: \nhttp://andaluciasolidaria.net/ \nTel.: 630227557 \nCasa de Cultura y Solidaridad \nCardenal Rodrigo de Castro\,nº6\, bajo 6 \n(Ciudad Jardín. Entrada por calle lateral) \nHorario de apertura: miércoles y jueves \nDe 18\,00h-20\,00h
URL:https://solidaridad.net/evento/sevilla-marcha-contra-la-esclavitud-infantil/
CATEGORIES:Marcha
END:VEVENT
END:VCALENDAR