BEGIN:VCALENDAR
VERSION:2.0
PRODID:-//Solidaridad.net - ECPv6.15.17.1//NONSGML v1.0//EN
CALSCALE:GREGORIAN
METHOD:PUBLISH
X-ORIGINAL-URL:https://solidaridad.net
X-WR-CALDESC:Eventos para Solidaridad.net
REFRESH-INTERVAL;VALUE=DURATION:PT1H
X-Robots-Tag:noindex
X-PUBLISHED-TTL:PT1H
BEGIN:VTIMEZONE
TZID:Europe/Helsinki
BEGIN:DAYLIGHT
TZOFFSETFROM:+0200
TZOFFSETTO:+0300
TZNAME:EEST
DTSTART:20150329T010000
END:DAYLIGHT
BEGIN:STANDARD
TZOFFSETFROM:+0300
TZOFFSETTO:+0200
TZNAME:EET
DTSTART:20151025T010000
END:STANDARD
BEGIN:DAYLIGHT
TZOFFSETFROM:+0200
TZOFFSETTO:+0300
TZNAME:EEST
DTSTART:20160327T010000
END:DAYLIGHT
BEGIN:STANDARD
TZOFFSETFROM:+0300
TZOFFSETTO:+0200
TZNAME:EET
DTSTART:20161030T010000
END:STANDARD
BEGIN:DAYLIGHT
TZOFFSETFROM:+0200
TZOFFSETTO:+0300
TZNAME:EEST
DTSTART:20170326T010000
END:DAYLIGHT
BEGIN:STANDARD
TZOFFSETFROM:+0300
TZOFFSETTO:+0200
TZNAME:EET
DTSTART:20171029T010000
END:STANDARD
END:VTIMEZONE
BEGIN:VEVENT
DTSTART;TZID=Europe/Helsinki:20161217T100000
DTEND;TZID=Europe/Helsinki:20161217T120000
DTSTAMP:20260419T223633
CREATED:20161216T153944Z
LAST-MODIFIED:20161216T160633Z
UID:22225-1481968800-1481976000@solidaridad.net
SUMMARY:Ciudad Bolívar: marcha contra las causas del hambre
DESCRIPTION:
URL:https://solidaridad.net/evento/marcha-contra-las-causas-del-hambre/
CATEGORIES:Marcha
ATTACH;FMTTYPE=image/jpeg:https://solidaridad.net/wp-content/uploads/2015/11/Manifiesto-logo.jpg
END:VEVENT
BEGIN:VEVENT
DTSTART;TZID=Europe/Helsinki:20161217T180000
DTEND;TZID=Europe/Helsinki:20161217T193000
DTSTAMP:20260419T223633
CREATED:20161202T085632Z
LAST-MODIFIED:20161202T085632Z
UID:21698-1481997600-1482003000@solidaridad.net
SUMMARY:MADRID: Marcha Solidaria
DESCRIPTION:CAMPAÑA por la JUSTICIA en las RELACIONES NORTE-SUR \nCONTRA LAS CAUSAS DEL HAMBRE\, EL PARO Y LA ESCLAVITUD INFANTIL. No Matarás (Dios)
URL:https://solidaridad.net/evento/madrid-marcha-solidaria/
CATEGORIES:Marcha
END:VEVENT
BEGIN:VEVENT
DTSTART;TZID=Europe/Helsinki:20161217T180000
DTEND;TZID=Europe/Helsinki:20161217T193000
DTSTAMP:20260419T223633
CREATED:20161202T090027Z
LAST-MODIFIED:20161202T090027Z
UID:21704-1481997600-1482003000@solidaridad.net
SUMMARY:BURGOS: Marcha por la Justicia Norte-Sur
DESCRIPTION:CAMPAÑA por la JUSTICIA en las RELACIONES NORTE-SUR \nCONTRA LAS CAUSAS DEL HAMBRE\, EL PARO Y LA ESCLAVITUD INFANTIL. No Matarás (Dios)
URL:https://solidaridad.net/evento/burgos-marcha-por-la-justicia-norte-sur/
CATEGORIES:Marcha
END:VEVENT
BEGIN:VEVENT
DTSTART;TZID=Europe/Helsinki:20161217T190000
DTEND;TZID=Europe/Helsinki:20161217T200000
DTSTAMP:20260419T223633
CREATED:20161204T200206Z
LAST-MODIFIED:20161204T200206Z
UID:21772-1482001200-1482004800@solidaridad.net
SUMMARY:Córdoba: marcha solidaria
DESCRIPTION:Marcha Solidaria contra las causas del hambre\, paro y esclavitud infantil
URL:https://solidaridad.net/evento/cordoba-marcha-solidaria/
LOCATION:Parroquia de San Nicolás de la Villa\, Córdoba\, Bulevar del Gran Capitán\, Córdoba
CATEGORIES:Marcha
ATTACH;FMTTYPE=image/jpeg:https://solidaridad.net/wp-content/uploads/2015/11/Manifiesto-logo.jpg
END:VEVENT
END:VCALENDAR