BEGIN:VCALENDAR
VERSION:2.0
PRODID:-//Solidaridad.net - ECPv6.15.17.1//NONSGML v1.0//EN
CALSCALE:GREGORIAN
METHOD:PUBLISH
X-ORIGINAL-URL:https://solidaridad.net
X-WR-CALDESC:Eventos para Solidaridad.net
REFRESH-INTERVAL;VALUE=DURATION:PT1H
X-Robots-Tag:noindex
X-PUBLISHED-TTL:PT1H
BEGIN:VTIMEZONE
TZID:Europe/Helsinki
BEGIN:DAYLIGHT
TZOFFSETFROM:+0200
TZOFFSETTO:+0300
TZNAME:EEST
DTSTART:20160327T010000
END:DAYLIGHT
BEGIN:STANDARD
TZOFFSETFROM:+0300
TZOFFSETTO:+0200
TZNAME:EET
DTSTART:20161030T010000
END:STANDARD
BEGIN:DAYLIGHT
TZOFFSETFROM:+0200
TZOFFSETTO:+0300
TZNAME:EEST
DTSTART:20170326T010000
END:DAYLIGHT
BEGIN:STANDARD
TZOFFSETFROM:+0300
TZOFFSETTO:+0200
TZNAME:EET
DTSTART:20171029T010000
END:STANDARD
BEGIN:DAYLIGHT
TZOFFSETFROM:+0200
TZOFFSETTO:+0300
TZNAME:EEST
DTSTART:20180325T010000
END:DAYLIGHT
BEGIN:STANDARD
TZOFFSETFROM:+0300
TZOFFSETTO:+0200
TZNAME:EET
DTSTART:20181028T010000
END:STANDARD
END:VTIMEZONE
BEGIN:VEVENT
DTSTART;TZID=Europe/Helsinki:20170412T190000
DTEND;TZID=Europe/Helsinki:20170412T200000
DTSTAMP:20260421T051439
CREATED:20170410T065053Z
LAST-MODIFIED:20170410T065053Z
UID:25105-1492023600-1492027200@solidaridad.net
SUMMARY:SANTANDER: Vigilia contra la Esclavitud Infantil
DESCRIPTION:Anteriormente\, el sábado 8 de abril en la plaza de Santander estaremos todo el día difundiendo materiales de denuncia contra las causas y a las 19.00h se realizará la lectura del comunicado.
URL:https://solidaridad.net/evento/santander-vigilia-contra-la-esclavitud-infantil/
CATEGORIES:Vigilia
END:VEVENT
BEGIN:VEVENT
DTSTART;TZID=Europe/Helsinki:20170422T193000
DTEND;TZID=Europe/Helsinki:20170422T210000
DTSTAMP:20260421T051439
CREATED:20170410T064655Z
LAST-MODIFIED:20170410T064856Z
UID:25103-1492889400-1492894800@solidaridad.net
SUMMARY:SEVILLA: Vía Lucis de la lucha contra la esclavitud infantil
DESCRIPTION:Vía Lucis de la lucha contra la esclavitud infantil\nLugar: Sevilla\, Plaza Nueva\nDía y hora: sábado 22 de abril a partir de las 19\,30 horas.\nDurante todo el día habrá un puesto de información acerca del acto en la misma plaza\, con difusión de publicaciones y revistas solidarias.\nConvoca y organiza: Movimiento Cultural Cristiano
URL:https://solidaridad.net/evento/sevilla-via-lucis-de-la-lucha-contra-la-esclavitud-infantil/
CATEGORIES:Vigilia
END:VEVENT
END:VCALENDAR